BEGIN:VCALENDAR
VERSION:2.0
PRODID:-//Community Coordinated Child Care - ECPv6.15.20//NONSGML v1.0//EN
CALSCALE:GREGORIAN
METHOD:PUBLISH
X-WR-CALNAME:Community Coordinated Child Care
X-ORIGINAL-URL:https://www.4cforkids.org
X-WR-CALDESC:Events for Community Coordinated Child Care
REFRESH-INTERVAL;VALUE=DURATION:PT1H
X-Robots-Tag:noindex
X-PUBLISHED-TTL:PT1H
BEGIN:VTIMEZONE
TZID:America/Kentucky/Louisville
BEGIN:DAYLIGHT
TZOFFSETFROM:-0500
TZOFFSETTO:-0400
TZNAME:EDT
DTSTART:20210314T070000
END:DAYLIGHT
BEGIN:STANDARD
TZOFFSETFROM:-0400
TZOFFSETTO:-0500
TZNAME:EST
DTSTART:20211107T060000
END:STANDARD
BEGIN:DAYLIGHT
TZOFFSETFROM:-0500
TZOFFSETTO:-0400
TZNAME:EDT
DTSTART:20220313T070000
END:DAYLIGHT
BEGIN:STANDARD
TZOFFSETFROM:-0400
TZOFFSETTO:-0500
TZNAME:EST
DTSTART:20221106T060000
END:STANDARD
BEGIN:DAYLIGHT
TZOFFSETFROM:-0500
TZOFFSETTO:-0400
TZNAME:EDT
DTSTART:20230312T070000
END:DAYLIGHT
BEGIN:STANDARD
TZOFFSETFROM:-0400
TZOFFSETTO:-0500
TZNAME:EST
DTSTART:20231105T060000
END:STANDARD
END:VTIMEZONE
BEGIN:VEVENT
DTSTART;TZID=America/Kentucky/Louisville:20220920T180000
DTEND;TZID=America/Kentucky/Louisville:20220920T200000
DTSTAMP:20260422T073934
CREATED:20220722T180215Z
LAST-MODIFIED:20220822T144310Z
UID:10000966-1663696800-1663704000@www.4cforkids.org
SUMMARY:Family Child Care Community of Practice: The Power of Teacher-Child Interactions
DESCRIPTION:Six-month Community of Practice \nSeptember 2022 – March 2023 \nDay and Time: Second Tuesday of the month 6:00-8:00 pm*\nLocation: Virtual\nECE-TRIS credit approved\nCost: Free\n\nDescription: Every day you interact with children. Your decisions about what to say and do make a difference in their lives. You can enhance children’s learning and your effectiveness as a teacher if your “everyday” interactions become intentional and purposeful. We will discuss what powerful interactions are and how to use them\, the steps to creating powerful interactions\, and the benefits they have for everyone. This monthly Community of Practice is designed specifically for Family Child Care providers. This Community of Practice will be facilitated in collaboration with Darice Hancock and Trish Kite-Hannon. To learn more about this track and register\, please contact Darice Hancock at Darice-Hancock@4cforkids.com. \nThank you to our sponsors at the Prichard Committee for making this a free opportunity for our early childhood community. \n*The first COP session will be on the Third Tuesday of the month on September 20. \n 
URL:https://www.4cforkids.org/event/family-child-care-community-of-practice/
LOCATION:Virtual\, Virtual
END:VEVENT
BEGIN:VEVENT
DTSTART;TZID=America/Kentucky/Louisville:20220910T100000
DTEND;TZID=America/Kentucky/Louisville:20220910T130000
DTSTAMP:20260422T073934
CREATED:20220707T210457Z
LAST-MODIFIED:20220721T191634Z
UID:10000953-1662804000-1662814800@www.4cforkids.org
SUMMARY:Strengthening Business Practices (Mini-Series) Session 2. Financial Reports and Internal Controls
DESCRIPTION:Strengthening Business Practices for Child Care Programs training series addresses basic concepts in fiscal and operational management of center-based child care programs. These trainings are grounded in the belief that strong and sustainable child care businesses can support program initiatives aimed at improving outcomes for children. In this session\, we will discuss financial reports and identify ways to help you better manage your program’s finances. We will also identify what internal controls are in a child care setting and how they can strengthen the fiscal health of your program. \nStrengthening Business Practices is an online series. In registering for this class\, you are registering for the entire four-part series. We will meet once a month for four months. Participation in all four sessions is required. \nSession 1: Saturday\, August 13   10:00 AM – 1:00 PM (Zoom) \nSession 2: Saturday\, September 10   10:00 AM – 1:00 PM (Zoom) \nSession 3: Saturday\, October 8   10:00 AM – 1:00 PM (Zoom) \nSession 4: Saturday\, November 12   10:00 AM – 1:00 PM (Zoom) \nThis workshop is free thanks to the generous sponsorship by the Jefferson County Regional Collaborative through a grant from the Governor’s Office of Early Childhood. \nNotice: This is an online class.  Please make sure you include a valid email address when registering and that you have internet and email access at the time of the training. This training will be conducted via Zoom\, and you will be required to participate via video and audio through a computer\, phone\, or tablet. All classes are on Eastern Standard Time. \nLevel 2   CDA 5  CC 7   Audience-All \n3 Credit Hours (12 Credit Hours for the entire 4-part series)
URL:https://www.4cforkids.org/event/strengthening-business-practices-mini-series-session-2-financial-reports-and-internal-controls/
LOCATION:Virtual\, Virtual
CATEGORIES:All,Director,Family Child Care,Infant/Toddler,Preschool,School Age
END:VEVENT
BEGIN:VEVENT
DTSTART;TZID=America/Kentucky/Louisville:20220813T100000
DTEND;TZID=America/Kentucky/Louisville:20220813T130000
DTSTAMP:20260422T073934
CREATED:20220707T210019Z
LAST-MODIFIED:20220721T191851Z
UID:10000952-1660384800-1660395600@www.4cforkids.org
SUMMARY:Strengthening Business Practices (Mini-Series) Session 1: Budgets\, Projections\, and Planning
DESCRIPTION:The Strengthening Business Practices for Child Care Programs training series addresses basic concepts in fiscal and operational management of center-based child care programs. These trainings are grounded in the belief that strong and sustainable child care businesses can support program initiatives aimed at improving outcomes for children. This session will focus on budgeting\, planning\, and projections specifically for child care businesses. Learn the value of developing a budget and how to use it for decision-making throughout the year. We will discuss how to project business costs and to plan strategically for future goals. \nStrengthening Business Practices is an online series. In registering for this class\, you are registering for the entire four-part series. We will meet once a month for four months. Participation in all four sessions is required. \nSession 1: Saturday\, August 13   10:00 AM – 1:00 PM (Zoom) \nSession 2: Saturday\, September 10   10:00 AM – 1:00 PM (Zoom) \nSession 3: Saturday\, October 8   10:00 AM – 1:00 PM (Zoom) \nSession 4: Saturday\, November 12   10:00 AM – 1:00 PM (Zoom) \nThis workshop is free thanks to the generous sponsorship by the Jefferson County Regional Collaborative through a grant from the Governor’s Office of Early Childhood. \nNotice: This is an online class.  Please make sure you include a valid email address when registering and that you have internet and email access at the time of the training. This training will be conducted via Zoom\, and you will be required to participate via video and audio through a computer\, phone\, or tablet. All classes are on Eastern Standard Time. \nLevel 2   CDA 5  CC 7   Audience-All \n3 Credit Hours (12 Credit Hours for the entire 4-part series)
URL:https://www.4cforkids.org/event/strengthening-business-practices-mini-series-session-1-budgets-projections-and-planning/
LOCATION:Virtual\, Virtual
CATEGORIES:All,Director,Family Child Care,Infant/Toddler,Preschool,School Age
END:VEVENT
BEGIN:VEVENT
DTSTART;TZID=America/Kentucky/Louisville:20220720T180000
DTEND;TZID=America/Kentucky/Louisville:20220720T200000
DTSTAMP:20260422T073934
CREATED:20220406T143051Z
LAST-MODIFIED:20220511T141347Z
UID:10000817-1658340000-1658347200@www.4cforkids.org
SUMMARY:Handling Difficult Conversations
DESCRIPTION:A family child care provider’s life is full of challenging verbal communications. While the thought of having difficult conversations might be daunting\, by preparing for them\, you’ll be confident to handle them in a timely and professional manner. \nNotice: This is an online class.  Please make sure you include a valid email address when registering and that you have internet and email access at the time of the training. This training will be conducted via Zoom\, and you will be required to participate via video and audio through a computer\, phone\, or tablet. All classes are on Eastern Standard Time. \nLevel 3   CDA 4  CC 6   Audience-Family Child Care \n2 Credit Hours
URL:https://www.4cforkids.org/event/handling-difficult-conversations/
LOCATION:Virtual\, Virtual
CATEGORIES:All,Family Child Care
END:VEVENT
BEGIN:VEVENT
DTSTART;TZID=America/Kentucky/Louisville:20220524T180000
DTEND;TZID=America/Kentucky/Louisville:20220524T200000
DTSTAMP:20260422T073934
CREATED:20220405T171543Z
LAST-MODIFIED:20220405T171543Z
UID:10000948-1653415200-1653422400@www.4cforkids.org
SUMMARY:Family Child Care Community of Practice: The Balancing Act of Self Care
DESCRIPTION:Family Child Care Community of Practice Session 5: The Balancing Act of Self Care\nThis course provides in-home providers with strategies on how to take care of themselves in order to be their best selves for their students and to avoid provider burnout. These strategies help providers take care of themselves within multiple aspects of their lives including healthier habits for bringing work home. This COP is for in-home child care providers only. \nThe Family Child Care Community of Practice will meet monthly on the third Tuesday from 6:00-8:00 pm EST. The cost is free. Each COP is approved for 2 hours of ECE-TRIS credit.  \nFor more information on our Communities of Practice\, go to www.4cforkids.org/training/communities-of-practice  \nFor more information on Family Child Care\, go to www.4cforkids.org/for-providers/family-child-care-homes \nFor a downloadable flyer\, click here. \nCOPs in 2022 are being planned as virtual events with the potential for in person opportunities in the future.  \nThank you to our sponsors at the Prichard Committee for making this a free opportunity for our early childhood community. \nNotice: This is an online class.  Please make sure you include a valid email address when registering and that you have internet and email access at the time of the session. This session will be conducted via Zoom\, and you will be required to participate via video and audio through a computer\, phone\, or tablet. All classes are on Eastern Standard Time. \nLevel 2  CDA 6  CC 3  Audience-Family Child Care \n2 Credit Hours
URL:https://www.4cforkids.org/event/family-child-care-community-of-practice-the-balancing-act-of-self-care/
CATEGORIES:All,Family Child Care
END:VEVENT
BEGIN:VEVENT
DTSTART;TZID=America/Kentucky/Louisville:20220412T180000
DTEND;TZID=America/Kentucky/Louisville:20220412T200000
DTSTAMP:20260422T073934
CREATED:20220309T173432Z
LAST-MODIFIED:20220309T173432Z
UID:10000802-1649786400-1649793600@www.4cforkids.org
SUMMARY:Family Child Care Community of Practice: Play Beyond the Playground
DESCRIPTION:Family Child Care Community of Practice Session 4: Play Beyond the Playground\nIt can be challenging to take young children outside—from naps to mealtimes and sunscreen to mittens\, a trip outdoors might feel like too much hassle. Additionally\, play outside may seem unruly\, overwhelming\, or lacking in learning opportunities. But outdoor play is worth the time and effort. This COP is for in-home child care providers only. \nThe Family Child Care Community of Practice will meet monthly on the third Tuesday from 6:00-8:00 pm EST. The cost is free. Each COP is approved for 2 hours of ECE-TRIS credit.  \nFor more information on our Communities of Practice\, go to www.4cforkids.org/training/communities-of-practice  \nFor more information on Family Child Care\, go to www.4cforkids.org/for-providers/family-child-care-homes \nFor a downloadable flyer\, click here. \nCOPs in 2022 are being planned as virtual events with the potential for in person opportunities in the future.  \nThank you to our sponsors at the Prichard Committee for making this a free opportunity for our early childhood community. \nNotice: This is an online class.  Please make sure you include a valid email address when registering and that you have internet and email access at the time of the session. This session will be conducted via Zoom\, and you will be required to participate via video and audio through a computer\, phone\, or tablet. All classes are on Eastern Standard Time. \nLevel 2  CDA 1\, 2  CC 2  Audience-Family Child Care \n2 Credit Hours
URL:https://www.4cforkids.org/event/family-child-care-community-of-practice-play-beyond-the-playground/
CATEGORIES:Family Child Care
END:VEVENT
BEGIN:VEVENT
DTSTART;TZID=America/Kentucky/Louisville:20220315T180000
DTEND;TZID=America/Kentucky/Louisville:20220315T200000
DTSTAMP:20260422T073934
CREATED:20211216T174815Z
LAST-MODIFIED:20220308T155810Z
UID:10000933-1647367200-1647374400@www.4cforkids.org
SUMMARY:Family Child Care Community of Practice: Troublesome Times and Transitions
DESCRIPTION:Family Child Care Community of Practice Session 3: Troublesome Times and Transitions\nHow do you manage behaviors and smoothly move from one activity to the next? Join us to share your ideas and learn lots of new ways to navigate through the most difficult times. This COP is for in-home child care providers only. \nThe Family Child Care Community of Practice will meet monthly on the third Tuesday from 6:00-8:00 pm EST. The cost is free. Each COP is approved for 2 hours of ECE-TRIS credit.  \nFor more information on our Communities of Practice\, go to www.4cforkids.org/training/communities-of-practice  \nFor more information on Family Child Care\, go to www.4cforkids.org/for-providers/family-child-care-homes \nFor a downloadable flyer\, click here. \nCOPs in 2022 are being planned as virtual events with the potential for in person opportunities in the future.  \nThank you to our sponsors at the Prichard Committee for making this a free opportunity for our early childhood community. \nNotice: This is an online class.  Please make sure you include a valid email address when registering and that you have internet and email access at the time of the session. This session will be conducted via Zoom\, and you will be required to participate via video and audio through a computer\, phone\, or tablet. All classes are on Eastern Standard Time. \nLevel 3  CDA 1\, 5  CC 4  Audience-Family Child Care \n2 Credit Hours
URL:https://www.4cforkids.org/event/family-child-care-community-of-practice-troublesome-times-and-transitions/
CATEGORIES:Family Child Care
END:VEVENT
BEGIN:VEVENT
DTSTART;TZID=America/Kentucky/Louisville:20220118T180000
DTEND;TZID=America/Kentucky/Louisville:20220118T200000
DTSTAMP:20260422T073934
CREATED:20211207T170758Z
LAST-MODIFIED:20220118T143826Z
UID:10000923-1642528800-1642536000@www.4cforkids.org
SUMMARY:Family Child Care Community of Practice: Managing Mixed Ages
DESCRIPTION:Family Child Care Community of Practice Session 1: Managing Mixed Ages\nTeaching children in mixed-age groups sounds like a daunting task for educators\, but it shouldn’t! Take time to discuss with other in home providers how your classroom set up and daily schedule of activities can help manage working with mixed age groups. \nThe Family Child Care Community of Practice will meet monthly on the third Tuesday from 6:00-8:00 pm EST. The cost is free. Each COP is approved for 2 hours of ECE-TRIS credit.  \nFor more information on our Communities of Practice\, go to www.4cforkids.org/training/communities-of-practice  \nFor more information on Family Child Care\, go to www.4cforkids.org/for-providers/family-child-care-homes \nFor a downloadable flyer\, click here. \nCOPs in 2022 are being planned as virtual events with the potential for in person opportunities in the future.  \nThank you to our sponsors at the Prichard Committee for making this a free opportunity for our early childhood community. \nNotice: This is an online class.  Please make sure you include a valid email address when registering and that you have internet and email access at the time of the session. This session will be conducted via Zoom\, and you will be required to participate via video and audio through a computer\, phone\, or tablet. All classes are on Eastern Standard Time. \nLevel 2  CDA 5  CC 7   Audience-Family Child Care \n2 Credit Hours
URL:https://www.4cforkids.org/event/family-child-care-community-of-practice-managing-mixed-ages/
CATEGORIES:All,Family Child Care
END:VEVENT
END:VCALENDAR