BEGIN:VCALENDAR
VERSION:2.0
PRODID:-//Community Coordinated Child Care - ECPv6.15.20//NONSGML v1.0//EN
CALSCALE:GREGORIAN
METHOD:PUBLISH
X-ORIGINAL-URL:https://www.4cforkids.org
X-WR-CALDESC:Events for Community Coordinated Child Care
REFRESH-INTERVAL;VALUE=DURATION:PT1H
X-Robots-Tag:noindex
X-PUBLISHED-TTL:PT1H
BEGIN:VTIMEZONE
TZID:America/Kentucky/Louisville
BEGIN:DAYLIGHT
TZOFFSETFROM:-0500
TZOFFSETTO:-0400
TZNAME:EDT
DTSTART:20210314T070000
END:DAYLIGHT
BEGIN:STANDARD
TZOFFSETFROM:-0400
TZOFFSETTO:-0500
TZNAME:EST
DTSTART:20211107T060000
END:STANDARD
BEGIN:DAYLIGHT
TZOFFSETFROM:-0500
TZOFFSETTO:-0400
TZNAME:EDT
DTSTART:20220313T070000
END:DAYLIGHT
BEGIN:STANDARD
TZOFFSETFROM:-0400
TZOFFSETTO:-0500
TZNAME:EST
DTSTART:20221106T060000
END:STANDARD
BEGIN:DAYLIGHT
TZOFFSETFROM:-0500
TZOFFSETTO:-0400
TZNAME:EDT
DTSTART:20230312T070000
END:DAYLIGHT
BEGIN:STANDARD
TZOFFSETFROM:-0400
TZOFFSETTO:-0500
TZNAME:EST
DTSTART:20231105T060000
END:STANDARD
END:VTIMEZONE
BEGIN:VEVENT
DTSTART;TZID=America/Kentucky/Louisville:20220707T180000
DTEND;TZID=America/Kentucky/Louisville:20220707T200000
DTSTAMP:20260425T204758
CREATED:20220601T194020Z
LAST-MODIFIED:20220601T194020Z
UID:10000818-1657216800-1657224000@www.4cforkids.org
SUMMARY:Offering Authentic Materials and Loose Parts
DESCRIPTION:Discover how to invite children to play with engaging materials and become an intentional observer. This session will focus on selecting materials for your classroom using an enhanced view of children. Children deserve the opportunity to explore and create with rich and meaningful materials. Learn how to integrate loose parts into all areas of the classroom. \nNotice: This is an online class.  Please make sure you include a valid email address when registering and that you have internet and email access at the time of the training. This training will be conducted via Zoom\, and you will be required to participate via video and audio through a computer\, phone\, or tablet. All classes are on Eastern Standard Time. \nLevel 1   CDA 2  CC 4  Audience-All \n2 Credit Hours
URL:https://www.4cforkids.org/event/offering-authentic-materials-and-loose-parts/
LOCATION:Virtual\, Virtual
CATEGORIES:All,Director,Family Child Care,Infant/Toddler,Preschool,School Age
END:VEVENT
BEGIN:VEVENT
DTSTART;TZID=America/Kentucky/Louisville:20220712T183000
DTEND;TZID=America/Kentucky/Louisville:20220712T203000
DTSTAMP:20260425T204758
CREATED:20220601T195344Z
LAST-MODIFIED:20220601T195344Z
UID:10000819-1657650600-1657657800@www.4cforkids.org
SUMMARY:Strengthening Families - Parental Resilience
DESCRIPTION:This training will go in depth about building parental resilience\, which is one of the 6 protective factors of the Kentucky Strengthening Families model. Strengthening Families is a strength-based approach that guides us in working with families to support the development of the family and child. Everyone experiences stress from time-to-time. Resilience is an attribute that helps us manage stressful situations. When families are resilient\, it can help ensure that they are on a trajectory of healthy\, positive outcomes. When educators understand the effects of stress on a family unit\, they will be able to understand how to support children and families for optimal outcomes. \nThis workshop is free thanks to the generous sponsorship by the Kosair Charities Face It Movement. \nNotice: This is an online class.  Please make sure you include a valid email address when registering and that you have internet and email access at the time of the training. This training will be conducted via Zoom\, and you will be required to participate via video and audio through a computer\, phone\, or tablet. \nLevel 3   CDA 4 CC 6  Audience-All \n2 Credit Hours
URL:https://www.4cforkids.org/event/strengthening-families-parental-resilience/
LOCATION:Virtual\, Virtual
CATEGORIES:All,Director,Family Child Care,Infant/Toddler,Preschool,School Age
END:VEVENT
END:VCALENDAR