BEGIN:VCALENDAR
VERSION:2.0
PRODID:-//Community Coordinated Child Care - ECPv6.15.20//NONSGML v1.0//EN
CALSCALE:GREGORIAN
METHOD:PUBLISH
X-WR-CALNAME:Community Coordinated Child Care
X-ORIGINAL-URL:https://www.4cforkids.org
X-WR-CALDESC:Events for Community Coordinated Child Care
REFRESH-INTERVAL;VALUE=DURATION:PT1H
X-Robots-Tag:noindex
X-PUBLISHED-TTL:PT1H
BEGIN:VTIMEZONE
TZID:America/Kentucky/Louisville
BEGIN:DAYLIGHT
TZOFFSETFROM:-0500
TZOFFSETTO:-0400
TZNAME:EDT
DTSTART:20220313T070000
END:DAYLIGHT
BEGIN:STANDARD
TZOFFSETFROM:-0400
TZOFFSETTO:-0500
TZNAME:EST
DTSTART:20221106T060000
END:STANDARD
BEGIN:DAYLIGHT
TZOFFSETFROM:-0500
TZOFFSETTO:-0400
TZNAME:EDT
DTSTART:20230312T070000
END:DAYLIGHT
BEGIN:STANDARD
TZOFFSETFROM:-0400
TZOFFSETTO:-0500
TZNAME:EST
DTSTART:20231105T060000
END:STANDARD
BEGIN:DAYLIGHT
TZOFFSETFROM:-0500
TZOFFSETTO:-0400
TZNAME:EDT
DTSTART:20240310T070000
END:DAYLIGHT
BEGIN:STANDARD
TZOFFSETFROM:-0400
TZOFFSETTO:-0500
TZNAME:EST
DTSTART:20241103T060000
END:STANDARD
END:VTIMEZONE
BEGIN:VEVENT
DTSTART;TZID=America/Kentucky/Louisville:20230109T163000
DTEND;TZID=America/Kentucky/Louisville:20230109T183000
DTSTAMP:20260425T144221
CREATED:20221128T200605Z
LAST-MODIFIED:20221128T200605Z
UID:10000846-1673281800-1673289000@www.4cforkids.org
SUMMARY:Introduction to Loose Parts for Infants and Toddlers
DESCRIPTION:Infants and Toddlers learn through investigating\, discovering\, and experimenting with their surroundings. When loose parts are introduced to Infants and toddlers\, rich and magnificent explorations occur. In this session\, the participants will discover how loose parts support infants’ and toddlers’ in every area of their development. We will also discuss what special considerations are needed when it comes to safety\, features\, and functions for materials that are appropriate for this age group. \nNotice: This is an in person class located at 4-C’s new office!   \nLocation: Community Coordinated Child Care (4-C) \n908 S. 8th Street\, Suite 201\, Louisville\, KY 40203 (Map) \nLevel 2   CDA 2  CC 4   Audience-Infant/Toddler \n2 Credit Hours \nBy attending a professional development opportunity\, you are entering an area where photography\, audio and video recording may occur. Your presence at the event constitutes your consent to be photographed\, filmed\, and/or otherwise recorded and to the release of any and all recorded media of your appearance\, voice\, and name for any purpose in connection with 4-C and our partners including use on websites\, in social media\, news and advertising. By registering for the event\, you agree that you have read and consent to this release. If you do not agree to the foregoing\, please inform your trainer at the time of the event.
URL:https://www.4cforkids.org/event/introduction-to-loose-parts-for-infants-and-toddlers/
LOCATION:Community Coordinated Child Care (4-C)\, 908 S. 8th Street\, Suite 201\, Louisville\, KY\, 40203\, United States
CATEGORIES:All,Infant/Toddler
END:VEVENT
BEGIN:VEVENT
DTSTART;TZID=America/Kentucky/Louisville:20230124T183000
DTEND;TZID=America/Kentucky/Louisville:20230124T203000
DTSTAMP:20260425T144221
CREATED:20221129T171608Z
LAST-MODIFIED:20221129T171608Z
UID:10000851-1674585000-1674592200@www.4cforkids.org
SUMMARY:Strengthening Families: Knowledge of Child Development
DESCRIPTION:Having accurate information about child development and an understanding of appropriate expectations for children’s behavior at every age helps parents see their children in a positive light and promotes their healthy development. Information can come from many sources\, including family members as well as parent education classes\, or even surfing the internet. Studies show information is most effective when it comes at the precise time parents need it to understand their own children. Parents who experienced harsh discipline or other negative childhood experiences may need extra help to change the parenting patterns they learned as children. Please join us to learn more about how you as an early childhood professional can support families for optimal outcomes for their family and community. \nThis workshop is free thanks to the generous sponsorship by the Kosair Charities Face It Movement. \nNotice: This is an online class.  Please make sure you include a valid email address when registering and that you have internet and email access at the time of the training. This training will be conducted via Zoom\, and you will be required to participate via video and audio through a computer\, phone\, or tablet. \nLevel 2   CDA 4  CC 1  Audience-All \n2 Credit Hours \nBy attending a professional development opportunity\, you are entering an area where photography\, audio and video recording may occur. Your presence at the event constitutes your consent to be photographed\, filmed\, and/or otherwise recorded and to the release of any and all recorded media of your appearance\, voice\, and name for any purpose in connection with 4-C and our partners including use on websites\, in social media\, news and advertising. By registering for the event\, you agree that you have read and consent to this release. If you do not agree to the foregoing\, please inform your trainer at the time of the event.
URL:https://www.4cforkids.org/event/strengthening-families-knowledge-of-child-development-2/
LOCATION:Virtual\, Virtual
CATEGORIES:All,Director,Family Child Care,Infant/Toddler,Preschool,School Age
END:VEVENT
BEGIN:VEVENT
DTSTART;TZID=America/Kentucky/Louisville:20230130T180000
DTEND;TZID=America/Kentucky/Louisville:20230130T200000
DTSTAMP:20260425T144221
CREATED:20221129T182710Z
LAST-MODIFIED:20221129T182710Z
UID:10000857-1675101600-1675108800@www.4cforkids.org
SUMMARY:Pediatric Abusive Head Trauma
DESCRIPTION:This training was designed for child care providers and staff on recognition and prevention Pediatric Abusive Head Trauma. Participants will learn the early signs of maltreatment and the various injuries and conditions that may result from vigorous shaking\, slamming or impacting the head of an infant or young child. They will also be provided tools for dealing with a crying infant and ways to share information with parents to prevent abuse from occurring. Training objectives are to review the statistics of abusive head trauma; to define and describe abusive head trauma and its associated injuries; to discuss risk factors and prevention\, and to understand the outcomes for victims. \nNotice: This is an in person class located at 4-C’s new office!   \nLocation: Community Coordinated Child Care (4-C) \n908 S. 8th Street\, Suite 201\, Louisville\, KY 40203 (Map) \nLicensed and Certified Child Care providers are now required to obtain a minimum of 1.5 clock hours of training every 5 years in the area of Pediatric Abusive Head Trauma. \nLevel 1 CDA 1 CC 2\,4 Audience-All \n2 Credit Hours \nThis workshop is free thanks to the generous sponsorship by the Jefferson County Regional Collaborative through a grant from the Governor’s Office of Early Childhood. \nBy attending a professional development opportunity\, you are entering an area where photography\, audio and video recording may occur. Your presence at the event constitutes your consent to be photographed\, filmed\, and/or otherwise recorded and to the release of any and all recorded media of your appearance\, voice\, and name for any purpose in connection with 4-C and our partners including use on websites\, in social media\, news and advertising. By registering for the event\, you agree that you have read and consent to this release. If you do not agree to the foregoing\, please inform your trainer at the time of the event.
URL:https://www.4cforkids.org/event/pediatric-abusive-head-trauma-9/
LOCATION:Community Coordinated Child Care (4-C)\, 908 S. 8th Street\, Suite 201\, Louisville\, KY\, 40203\, United States
CATEGORIES:All,Director,Family Child Care,Infant/Toddler,Preschool,School Age
END:VEVENT
END:VCALENDAR