BEGIN:VCALENDAR
VERSION:2.0
PRODID:-//Community Coordinated Child Care - ECPv6.15.20//NONSGML v1.0//EN
CALSCALE:GREGORIAN
METHOD:PUBLISH
X-ORIGINAL-URL:https://www.4cforkids.org
X-WR-CALDESC:Events for Community Coordinated Child Care
REFRESH-INTERVAL;VALUE=DURATION:PT1H
X-Robots-Tag:noindex
X-PUBLISHED-TTL:PT1H
BEGIN:VTIMEZONE
TZID:America/Kentucky/Louisville
BEGIN:DAYLIGHT
TZOFFSETFROM:-0500
TZOFFSETTO:-0400
TZNAME:EDT
DTSTART:20220313T070000
END:DAYLIGHT
BEGIN:STANDARD
TZOFFSETFROM:-0400
TZOFFSETTO:-0500
TZNAME:EST
DTSTART:20221106T060000
END:STANDARD
BEGIN:DAYLIGHT
TZOFFSETFROM:-0500
TZOFFSETTO:-0400
TZNAME:EDT
DTSTART:20230312T070000
END:DAYLIGHT
BEGIN:STANDARD
TZOFFSETFROM:-0400
TZOFFSETTO:-0500
TZNAME:EST
DTSTART:20231105T060000
END:STANDARD
BEGIN:DAYLIGHT
TZOFFSETFROM:-0500
TZOFFSETTO:-0400
TZNAME:EDT
DTSTART:20240310T070000
END:DAYLIGHT
BEGIN:STANDARD
TZOFFSETFROM:-0400
TZOFFSETTO:-0500
TZNAME:EST
DTSTART:20241103T060000
END:STANDARD
END:VTIMEZONE
BEGIN:VEVENT
DTSTART;TZID=America/Kentucky/Louisville:20230306T180000
DTEND;TZID=America/Kentucky/Louisville:20230306T200000
DTSTAMP:20260425T124059
CREATED:20221213T164459Z
LAST-MODIFIED:20221213T164459Z
UID:10000986-1678125600-1678132800@www.4cforkids.org
SUMMARY:Nutrition in the Early Childhood Setting
DESCRIPTION:Proper nutrition in early childhood promotes optimal brain development\, physical growth\, a strong immune system and overall well being. In this training\, educators will learn the components of and how to provide nutritious meals by utilizing resources available and incorporating nutrition into their curriculum and daily practice. Participants will brainstorm how to implement family style dining in the classroom to encourage lifelong healthy habits and nutrition. Learners will discuss the similarities of Kentucky state regulations and the Child and Adult Food Program regulations. Information will be provided on how to become part of CACFP if you are not already participating. \nNotice: This is an in person class located at 4-C’s new office!   \nLocation: Community Coordinated Child Care (4-C) \n908 S. 8th Street\, Suite 201\, Louisville\, KY 40203 (Map) \nLevel 1 CDA 5  CC 2  Audience-All \n2 Credit Hours \nThis workshop is free thanks to the generous sponsorship by the Jefferson County Regional Collaborative through a grant from the Governor’s Office of Early Childhood. \nBy attending a professional development opportunity\, you are entering an area where photography\, audio and video recording may occur. Your presence at the event constitutes your consent to be photographed\, filmed\, and/or otherwise recorded and to the release of any and all recorded media of your appearance\, voice\, and name for any purpose in connection with 4-C and our partners including use on websites\, in social media\, news and advertising. By registering for the event\, you agree that you have read and consent to this release. If you do not agree to the foregoing\, please inform your trainer at the time of the event.
URL:https://www.4cforkids.org/event/nutrition-in-the-early-childhood-setting/
LOCATION:Community Coordinated Child Care (4-C)\, 908 S. 8th Street\, Suite 201\, Louisville\, KY\, 40203\, United States
CATEGORIES:All,Director,Family Child Care,Infant/Toddler,Preschool,School Age
END:VEVENT
BEGIN:VEVENT
DTSTART;TZID=America/Kentucky/Louisville:20230311T100000
DTEND;TZID=America/Kentucky/Louisville:20230311T120000
DTSTAMP:20260425T124059
CREATED:20230113T152417Z
LAST-MODIFIED:20230113T152417Z
UID:10000988-1678528800-1678536000@www.4cforkids.org
SUMMARY:Inclusive Physical Activities for Young Children
DESCRIPTION:Learn to create environments that help young children with disabilities develop their movement skills in a natural setting while playing with typical peers. These physical activities need only inexpensive equipment and small spaces\, can accommodate children of various ages and abilities\, can be done by families at home\, and are fun. Participants will: Describe developmentally appropriate\, non-competitive\, and inclusive physical activities for preschoolers of all abilities. Explain how to lead these physical activities using inexpensive equipment and small spaces to allow all preschoolers the freedom to experiment and explore movement. Describe how to modify each physical activity to include children with a wide variety of developmental delays and disabilities alongside typical peers. \nThis workshop is free thanks to the generous sponsorship by the Jefferson County Regional Collaborative through a grant from the Governor’s Office of Early Childhood. \nNotice: This is an online class.  Please make sure you include a valid email address when registering and that you have internet and email access at the time of the training. This training will be conducted via Zoom\, and you will be required to participate via video and audio through a computer\, phone\, or tablet. All classes are on Eastern Standard Time. \nLevel 2   CDA 2  CC 4   Audience-All \n2 Credit Hours \nBy attending a professional development opportunity\, you are entering an area where photography\, audio and video recording may occur. Your presence at the event constitutes your consent to be photographed\, filmed\, and/or otherwise recorded and to the release of any and all recorded media of your appearance\, voice\, and name for any purpose in connection with 4-C and our partners including use on websites\, in social media\, news and advertising. By registering for the event\, you agree that you have read and consent to this release. If you do not agree to the foregoing\, please inform your trainer at the time of the event.
URL:https://www.4cforkids.org/event/inclusive-physical-activities-for-young-children/
LOCATION:Virtual\, Virtual
CATEGORIES:All,Director,Family Child Care,Infant/Toddler,Preschool,School Age
END:VEVENT
BEGIN:VEVENT
DTSTART;TZID=America/Kentucky/Louisville:20230313T180000
DTEND;TZID=America/Kentucky/Louisville:20230313T200000
DTSTAMP:20260425T124059
CREATED:20230113T153718Z
LAST-MODIFIED:20230113T153718Z
UID:10000989-1678730400-1678737600@www.4cforkids.org
SUMMARY:Pediatric Abusive Head Trauma
DESCRIPTION:This training was designed for child care providers and staff on recognition and prevention Pediatric Abusive Head Trauma. Participants will learn the early signs of maltreatment and the various injuries and conditions that may result from vigorous shaking\, slamming or impacting the head of an infant or young child. They will also be provided tools for dealing with a crying infant and ways to share information with parents to prevent abuse from occurring. Training objectives are to review the statistics of abusive head trauma; to define and describe abusive head trauma and its associated injuries; to discuss risk factors and prevention\, and to understand the outcomes for victims. \nNotice: This is an in person class located at 4-C’s new office!   \nLocation: Community Coordinated Child Care (4-C) \n908 S. 8th Street\, Suite 201\, Louisville\, KY 40203 (Map) \nLicensed and Certified Child Care providers are now required to obtain a minimum of 1.5 clock hours of training every 5 years in the area of Pediatric Abusive Head Trauma. \nLevel 1 CDA 1 CC 2\,4 Audience-All \n2 Credit Hours \nThis workshop is free thanks to the generous sponsorship by the Jefferson County Regional Collaborative through a grant from the Governor’s Office of Early Childhood. \nBy attending a professional development opportunity\, you are entering an area where photography\, audio and video recording may occur. Your presence at the event constitutes your consent to be photographed\, filmed\, and/or otherwise recorded and to the release of any and all recorded media of your appearance\, voice\, and name for any purpose in connection with 4-C and our partners including use on websites\, in social media\, news and advertising. By registering for the event\, you agree that you have read and consent to this release. If you do not agree to the foregoing\, please inform your trainer at the time of the event.
URL:https://www.4cforkids.org/event/pediatric-abusive-head-trauma-10/
LOCATION:Community Coordinated Child Care (4-C)\, 908 S. 8th Street\, Suite 201\, Louisville\, KY\, 40203\, United States
CATEGORIES:All,Director,Family Child Care,Infant/Toddler,Preschool,School Age
END:VEVENT
END:VCALENDAR