BEGIN:VCALENDAR
VERSION:2.0
PRODID:-//Community Coordinated Child Care - ECPv6.15.20//NONSGML v1.0//EN
CALSCALE:GREGORIAN
METHOD:PUBLISH
X-WR-CALNAME:Community Coordinated Child Care
X-ORIGINAL-URL:https://www.4cforkids.org
X-WR-CALDESC:Events for Community Coordinated Child Care
REFRESH-INTERVAL;VALUE=DURATION:PT1H
X-Robots-Tag:noindex
X-PUBLISHED-TTL:PT1H
BEGIN:VTIMEZONE
TZID:America/Kentucky/Louisville
BEGIN:DAYLIGHT
TZOFFSETFROM:-0500
TZOFFSETTO:-0400
TZNAME:EDT
DTSTART:20250309T070000
END:DAYLIGHT
BEGIN:STANDARD
TZOFFSETFROM:-0400
TZOFFSETTO:-0500
TZNAME:EST
DTSTART:20251102T060000
END:STANDARD
BEGIN:DAYLIGHT
TZOFFSETFROM:-0500
TZOFFSETTO:-0400
TZNAME:EDT
DTSTART:20260308T070000
END:DAYLIGHT
BEGIN:STANDARD
TZOFFSETFROM:-0400
TZOFFSETTO:-0500
TZNAME:EST
DTSTART:20261101T060000
END:STANDARD
BEGIN:DAYLIGHT
TZOFFSETFROM:-0500
TZOFFSETTO:-0400
TZNAME:EDT
DTSTART:20270314T070000
END:DAYLIGHT
BEGIN:STANDARD
TZOFFSETFROM:-0400
TZOFFSETTO:-0500
TZNAME:EST
DTSTART:20271107T060000
END:STANDARD
END:VTIMEZONE
BEGIN:VEVENT
DTSTART;TZID=America/Kentucky/Louisville:20260207T090000
DTEND;TZID=America/Kentucky/Louisville:20260207T150000
DTSTAMP:20260425T103717
CREATED:20251121T153510Z
LAST-MODIFIED:20251121T153510Z
UID:10001191-1770454800-1770476400@www.4cforkids.org
SUMMARY:Orientation for Early Care and Education Professionals with CPR and First Aid
DESCRIPTION:Facilitator : Liz Walker \nThis mandatory training focuses on Health\, Safety\, and Sanitation\, Recognizing and Reporting Child Abuse\, and Recommended Practices. This session is required for all childcare employees and must be completed within the first 90 days of employment. Successful completion of this course satisfies the Division of Child Care’s (DCC) new regulatory requirement for each center to ensure that every staff member has received training on first aid and cardiopulmonary resuscitation (CPR). \nThis workshop is free thanks to the generous sponsorship by the Jefferson County Regional Collaborative through a grant from the Governor’s Office of Early Childhood. \nNotice: This is an in person class located at 4-C’s office!   \nLocation: Community Coordinated Child Care (4-C) \n908 S. 8th Street\, Suite 201\, Louisville\, KY 40203 (Map) \nLevel 1 CDA 1\,2\,3\,8 CC 1\,2\,4 Audience-All \n6 Credit Hours \nBy attending a professional development opportunity\, you are entering an area where photography\, audio and video recording may occur. Your presence at the event constitutes your consent to be photographed\, filmed\, and/or otherwise recorded and to the release of any and all recorded media of your appearance\, voice\, and name for any purpose in connection with 4-C and our partners including use on websites\, in social media\, news and advertising. By registering for the event\, you agree that you have read and consent to this release. If you do not agree to the foregoing\, please inform your trainer at the time of the event.
URL:https://www.4cforkids.org/event/orientation-for-early-care-and-education-professionals-with-cpr-and-first-aid-11/
LOCATION:Community Coordinated Child Care (4-C)\, 908 S. 8th Street\, Suite 201\, Louisville\, KY\, 40203\, United States
CATEGORIES:All,Director,Family Child Care,Infant/Toddler,Preschool,School Age
END:VEVENT
BEGIN:VEVENT
DTSTART;TZID=America/Kentucky/Louisville:20260223T180000
DTEND;TZID=America/Kentucky/Louisville:20260223T200000
DTSTAMP:20260425T103717
CREATED:20251121T160654Z
LAST-MODIFIED:20260211T194351Z
UID:10001194-1771869600-1771876800@www.4cforkids.org
SUMMARY:Pediatric Abusive Head Trauma\, Child Physical Abuse\, and Safe Sleep
DESCRIPTION:Facilitator : Courtney Pearce \nThis training was designed for childcare providers and staff on recognition and prevention of Pediatric Abusive Head Trauma. Participants will learn the early signs of maltreatment and the various injuries and conditions that may result from vigorous shaking\, slamming or impacting the head of an infant or young child. They will also be provided tools for dealing with a crying infant and ways to share information with parents to prevent abuse from occurring. \nNotice: This is an online class.  Please make sure you include a valid email address when registering and that you have internet and email access at the time of the training. This training will be conducted via Zoom\, and you will be required to participate via video and audio through a computer\, phone\, or tablet. All classes are on Eastern Standard Time. \nLevel 1 CDA 1 CC 2\,4 Audience-All \n2 Credit Hours \nBy attending a professional development opportunity\, you are entering an area where photography\, audio and video recording may occur. Your presence at the event constitutes your consent to be photographed\, filmed\, and/or otherwise recorded and to the release of any and all recorded media of your appearance\, voice\, and name for any purpose in connection with 4-C and our partners including use on websites\, in social media\, news and advertising. By registering for the event\, you agree that you have read and consent to this release. If you do not agree to the foregoing\, please inform your trainer at the time of the event. \n4-C Members get 40% off the list price on training classes and eCourses!  \nBe sure to enter your 4-C Membership Number at checkout to receive a 40% discount. Not a member yet? Visit our membership page to learn how you can become a member today: www.4cforkids.org/membership. For questions regarding membership\, contact membership@4cforkids.com.
URL:https://www.4cforkids.org/event/pediatric-abusive-head-trauma-child-physical-abuse-and-safe-sleep-10/
LOCATION:Virtual\, Virtual
CATEGORIES:All,Director,Family Child Care,Infant/Toddler,Preschool,School Age
END:VEVENT
BEGIN:VEVENT
DTSTART;TZID=America/Kentucky/Louisville:20260411T090000
DTEND;TZID=America/Kentucky/Louisville:20260411T150000
DTSTAMP:20260425T103717
CREATED:20260212T165950Z
LAST-MODIFIED:20260212T170946Z
UID:10001204-1775898000-1775919600@www.4cforkids.org
SUMMARY:Orientation for Early Care and Education Professionals with CPR and First Aid
DESCRIPTION:Facilitator : Liz Walker \nThis mandatory training focuses on Health\, Safety\, and Sanitation\, Recognizing and Reporting Child Abuse\, and Recommended Practices. This session is required for all childcare employees and must be completed within the first 90 days of employment. Successful completion of this course satisfies the Division of Child Care’s (DCC) new regulatory requirement for each center to ensure that every staff member has received training on first aid and cardiopulmonary resuscitation (CPR). \nNotice: This is an in person class located at 4-C’s office!   \nLocation: Community Coordinated Child Care (4-C) \n908 S. 8th Street\, Suite 201\, Louisville\, KY 40203 (Map) \nLevel 1 CDA 1\,2\,3\,8 CC 1\,2\,4 Audience-All \n6 Credit Hours \nBy attending a professional development opportunity\, you are entering an area where photography\, audio and video recording may occur. Your presence at the event constitutes your consent to be photographed\, filmed\, and/or otherwise recorded and to the release of any and all recorded media of your appearance\, voice\, and name for any purpose in connection with 4-C and our partners including use on websites\, in social media\, news and advertising. By registering for the event\, you agree that you have read and consent to this release. If you do not agree to the foregoing\, please inform your trainer at the time of the event.
URL:https://www.4cforkids.org/event/orientation-for-early-care-and-education-professionals-with-cpr-and-first-aid-12/
LOCATION:Community Coordinated Child Care (4-C)\, 908 S. 8th Street\, Suite 201\, Louisville\, KY\, 40203\, United States
CATEGORIES:All,Director,Family Child Care,Infant/Toddler,Preschool,School Age
END:VEVENT
BEGIN:VEVENT
DTSTART;TZID=America/Kentucky/Louisville:20260414T180000
DTEND;TZID=America/Kentucky/Louisville:20260414T200000
DTSTAMP:20260425T103717
CREATED:20260212T170427Z
LAST-MODIFIED:20260212T170427Z
UID:10001205-1776189600-1776196800@www.4cforkids.org
SUMMARY:Every Voice Counts: Supporting Language Development in Early Childhood
DESCRIPTION:Facilitator : Abigail Black \nChildren in early childhood classrooms often have a wide range of language abilities\, including children who are learning more than one language. This training helps educators recognize and support these differences\, including strategies for dual-language learners (DLLs)\, to ensure all children can participate\, communicate\, and thrive. Participants will explore practical ways to adapt activities\, use visual supports\, and collaborate with families and specialists to create a language-rich\, inclusive environment for every child. \nThis workshop is free thanks to the generous sponsorship by the Jefferson County Regional Collaborative through a grant from the Governor’s Office of Early Childhood. \nNotice: This is an in person class located at 4-C’s office.  \nLocation: Community Coordinated Child Care (4-C) \n908 S. 8th Street\, Suite 201\, Louisville\, KY 40203 (Map) \nLevel 1 CDA 2 CC 4 Audience-All \n2 Credit Hours \nBy attending a professional development opportunity\, you are entering an area where photography\, audio and video recording may occur. Your presence at the event constitutes your consent to be photographed\, filmed\, and/or otherwise recorded and to the release of any and all recorded media of your appearance\, voice\, and name for any purpose in connection with 4-C and our partners including use on websites\, in social media\, news and advertising. By registering for the event\, you agree that you have read and consent to this release. If you do not agree to the foregoing\, please inform your trainer at the time of the event.
URL:https://www.4cforkids.org/event/every-voice-counts-supporting-language-development-in-early-childhood/
LOCATION:Community Coordinated Child Care (4-C)\, 908 S. 8th Street\, Suite 201\, Louisville\, KY\, 40203\, United States
CATEGORIES:All,Director,Family Child Care,Infant/Toddler,Preschool,School Age
ORGANIZER;CN="Abigail Black":MAILTO:abigail-black@4cforkids.com
END:VEVENT
BEGIN:VEVENT
DTSTART;TZID=America/Kentucky/Louisville:20260420T120000
DTEND;TZID=America/Kentucky/Louisville:20260420T140000
DTSTAMP:20260425T103717
CREATED:20260212T171113Z
LAST-MODIFIED:20260212T171113Z
UID:10001206-1776686400-1776693600@www.4cforkids.org
SUMMARY:Pediatric Abusive Head Trauma\, Child Physical Abuse\, and Safe Sleep
DESCRIPTION:Facilitator : Courtney Pearce \nThis training was designed for childcare providers and staff on recognition and prevention of Pediatric Abusive Head Trauma. Participants will learn the early signs of maltreatment and the various injuries and conditions that may result from vigorous shaking\, slamming or impacting the head of an infant or young child. They will also be provided tools for dealing with a crying infant and ways to share information with parents to prevent abuse from occurring. \nThis workshop is free thanks to the generous sponsorship by the Jefferson County Regional Collaborative through a grant from the Governor’s Office of Early Childhood. \nNotice: This is an online class.  Please make sure you include a valid email address when registering and that you have internet and email access at the time of the training. This training will be conducted via Zoom\, and you will be required to participate via video and audio through a computer\, phone\, or tablet. All classes are on Eastern Standard Time. \nLevel 1 CDA 1 CC 2\,4 Audience-All \n2 Credit Hours \nBy attending a professional development opportunity\, you are entering an area where photography\, audio and video recording may occur. Your presence at the event constitutes your consent to be photographed\, filmed\, and/or otherwise recorded and to the release of any and all recorded media of your appearance\, voice\, and name for any purpose in connection with 4-C and our partners including use on websites\, in social media\, news and advertising. By registering for the event\, you agree that you have read and consent to this release. If you do not agree to the foregoing\, please inform your trainer at the time of the event.
URL:https://www.4cforkids.org/event/pediatric-abusive-head-trauma-child-physical-abuse-and-safe-sleep-13/
LOCATION:Virtual\, Virtual
CATEGORIES:All,Director,Family Child Care,Infant/Toddler,Preschool,School Age
END:VEVENT
BEGIN:VEVENT
DTSTART;TZID=America/Kentucky/Louisville:20260430T170000
DTEND;TZID=America/Kentucky/Louisville:20260430T190000
DTSTAMP:20260425T103717
CREATED:20260212T171725Z
LAST-MODIFIED:20260302T172858Z
UID:10001208-1777568400-1777575600@www.4cforkids.org
SUMMARY:Building the Foundation for Lifelong Learning
DESCRIPTION:Facilitator : Mavie Leon-Diaz \nWhat is the teacher’s role in supporting children’s success across all developmental domains? Participants will explore how curiosity\, persistence\, initiative\, creativity\, problem-solving\, and self-regulation develop from birth through age five. Educators will examine how play-based experiences\, responsive interactions\, and intentional learning environments strengthen children’s approaches to learning. Practical strategies will be shared to support ATL skills through daily routines\, classroom activities\, and adult guidance. \nThis workshop is free thanks to the generous sponsorship by the Jefferson County Regional Collaborative through a grant from the Governor’s Office of Early Childhood. \nNotice: This is an in person class located at 4-C’s office.  \nLocation: Community Coordinated Child Care (4-C) \n908 S. 8th Street\, Suite 201\, Louisville\, KY 40203 (Map) \nLevel 1 CDA 2\,3 CC 1 Audience-All \n2 Credit Hours \nBy attending a professional development opportunity\, you are entering an area where photography\, audio and video recording may occur. Your presence at the event constitutes your consent to be photographed\, filmed\, and/or otherwise recorded and to the release of any and all recorded media of your appearance\, voice\, and name for any purpose in connection with 4-C and our partners including use on websites\, in social media\, news and advertising. By registering for the event\, you agree that you have read and consent to this release. If you do not agree to the foregoing\, please inform your trainer at the time of the event.
URL:https://www.4cforkids.org/event/approaches-to-learning-in-early-childhood-education-building-the-foundation-for-lifelong-learning/
LOCATION:Community Coordinated Child Care (4-C)\, 908 S. 8th Street\, Suite 201\, Louisville\, KY\, 40203\, United States
CATEGORIES:All,Director,Family Child Care,Infant/Toddler,Preschool,School Age
END:VEVENT
BEGIN:VEVENT
DTSTART;TZID=America/Kentucky/Louisville:20260506T170000
DTEND;TZID=America/Kentucky/Louisville:20260506T190000
DTSTAMP:20260425T103717
CREATED:20260212T172404Z
LAST-MODIFIED:20260220T161132Z
UID:10001209-1778086800-1778094000@www.4cforkids.org
SUMMARY:Little Voices\, Big Choices: Building Social-Emotional Skills in Young Children
DESCRIPTION:Facilitator : Carrie Christensen and Aidan Davis \nThis training will introduce participants to the key social-emotional skills in the Pyramid Model framework: friendship skills\, emotional literacy\, self-regulation and problem solving skills. Activities and resources for each of the four areas will be explored. \nThis workshop is free thanks to the generous sponsorship by the Jefferson County Regional Collaborative through a grant from the Governor’s Office of Early Childhood. \nNotice: This is an in person class located at 4-C’s office.  \nLocation: Community Coordinated Child Care (4-C) \n908 S. 8th Street\, Suite 201\, Louisville\, KY 40203 (Map) \nLevel 1 CDA 3 CC 1\,4 Audience-All \n2 Credit Hours \nBy attending a professional development opportunity\, you are entering an area where photography\, audio and video recording may occur. Your presence at the event constitutes your consent to be photographed\, filmed\, and/or otherwise recorded and to the release of any and all recorded media of your appearance\, voice\, and name for any purpose in connection with 4-C and our partners including use on websites\, in social media\, news and advertising. By registering for the event\, you agree that you have read and consent to this release. If you do not agree to the foregoing\, please inform your trainer at the time of the event.
URL:https://www.4cforkids.org/event/teaching-social-emotional-skills-pyramid-model/
LOCATION:Community Coordinated Child Care (4-C)\, 908 S. 8th Street\, Suite 201\, Louisville\, KY\, 40203\, United States
CATEGORIES:All,Director,Family Child Care,Infant/Toddler,Preschool,School Age
ORGANIZER;CN="Carrie Christensen":MAILTO:carrie-christensen@4cforkids.com
END:VEVENT
BEGIN:VEVENT
DTSTART;TZID=America/Kentucky/Louisville:20260507T170000
DTEND;TZID=America/Kentucky/Louisville:20260507T190000
DTSTAMP:20260425T103717
CREATED:20260212T172838Z
LAST-MODIFIED:20260309T195120Z
UID:10001210-1778173200-1778180400@www.4cforkids.org
SUMMARY:Making Learning Visible through Authentic Assessment
DESCRIPTION:Facilitator : Angie Kinser \nIn this training\, educators will learn about the cycle of inquiry\, which includes offering activities\, observation\, documentation\, reflection\, and assessment.  \nThe educators will learn how to use ongoing observation of children to assess developmental stages\, and the children’s progress\, and how to use their observational findings to inform planning\, classroom instruction\, materials\, and learning activities. This session will help educators understand how to use both formal and informal measures to monitor children’s progress toward learning goals.  \nThis workshop is free thanks to the generous sponsorship by the Jefferson County Regional Collaborative through a grant from the Governor’s Office of Early Childhood. \nNotice: This is an in person class located at 4-C’s office.  \nLocation: Community Coordinated Child Care (4-C) \n908 S. 8th Street\, Suite 201\, Louisville\, KY 40203 (Map) \nLevel 1 CDA 7 CC 5 Audience-All \n2 Credit Hours \nBy attending a professional development opportunity\, you are entering an area where photography\, audio and video recording may occur. Your presence at the event constitutes your consent to be photographed\, filmed\, and/or otherwise recorded and to the release of any and all recorded media of your appearance\, voice\, and name for any purpose in connection with 4-C and our partners including use on websites\, in social media\, news and advertising. By registering for the event\, you agree that you have read and consent to this release. If you do not agree to the foregoing\, please inform your trainer at the time of the event.
URL:https://www.4cforkids.org/event/the-cycle-of-inquiry-making-learning-visible-through-authentic-assessment/
LOCATION:Community Coordinated Child Care (4-C)\, 908 S. 8th Street\, Suite 201\, Louisville\, KY\, 40203\, United States
CATEGORIES:All,Director,Family Child Care,Infant/Toddler,Preschool,School Age
END:VEVENT
BEGIN:VEVENT
DTSTART;TZID=America/Kentucky/Louisville:20260521T170000
DTEND;TZID=America/Kentucky/Louisville:20260521T190000
DTSTAMP:20260425T103717
CREATED:20260212T174221Z
LAST-MODIFIED:20260212T174221Z
UID:10001213-1779382800-1779390000@www.4cforkids.org
SUMMARY:Beyond the Checklist: The Invisible Skills of Professionalism in Early Childhood
DESCRIPTION:Facilitator  Liz Walker \nEarly childhood professionalism is often measured by what can be seen\, counted\, and checked off. But some of the most powerful teaching skills cannot be captured on a checklist. This training invites educators to explore the visible skills that are commonly assessed\, such as environment\, documentation\, and routines\, alongside the invisible skills that shape children’s learning every day. Participants will reflect on how nurturing relationships\, tone of voice\, consistency\, and emotional presence influence children’s sense of safety\, belonging\, and ability to learn. \nThis workshop is free thanks to the generous sponsorship by the Jefferson County Regional Collaborative through a grant from the Governor’s Office of Early Childhood. \nNotice: This is an online class.  Please make sure you include a valid email address when registering and that you have internet and email access at the time of the training. This training will be conducted via Zoom\, and you will be required to participate via video and audio through a computer\, phone\, or tablet. All classes are on Eastern Standard Time. \nLevel 1   CDA 6  CC 3   Audience-Directors \n2 Credit Hours \nBy attending a professional development opportunity\, you are entering an area where photography\, audio and video recording may occur. Your presence at the event constitutes your consent to be photographed\, filmed\, and/or otherwise recorded and to the release of any and all recorded media of your appearance\, voice\, and name for any purpose in connection with 4-C and our partners including use on websites\, in social media\, news and advertising. By registering for the event\, you agree that you have read and consent to this release. If you do not agree to the foregoing\, please inform your trainer at the time of the event.
URL:https://www.4cforkids.org/event/beyond-the-checklist-the-invisible-skills-of-professionalism-in-early-childhood/
LOCATION:Virtual\, Virtual
CATEGORIES:All,Director,Family Child Care,Infant/Toddler,Preschool,School Age
END:VEVENT
END:VCALENDAR