BEGIN:VCALENDAR
VERSION:2.0
PRODID:-//Community Coordinated Child Care - ECPv6.15.20//NONSGML v1.0//EN
CALSCALE:GREGORIAN
METHOD:PUBLISH
X-WR-CALNAME:Community Coordinated Child Care
X-ORIGINAL-URL:https://www.4cforkids.org
X-WR-CALDESC:Events for Community Coordinated Child Care
REFRESH-INTERVAL;VALUE=DURATION:PT1H
X-Robots-Tag:noindex
X-PUBLISHED-TTL:PT1H
BEGIN:VTIMEZONE
TZID:America/Kentucky/Louisville
BEGIN:DAYLIGHT
TZOFFSETFROM:-0500
TZOFFSETTO:-0400
TZNAME:EDT
DTSTART:20180311T070000
END:DAYLIGHT
BEGIN:STANDARD
TZOFFSETFROM:-0400
TZOFFSETTO:-0500
TZNAME:EST
DTSTART:20181104T060000
END:STANDARD
BEGIN:DAYLIGHT
TZOFFSETFROM:-0500
TZOFFSETTO:-0400
TZNAME:EDT
DTSTART:20190310T070000
END:DAYLIGHT
BEGIN:STANDARD
TZOFFSETFROM:-0400
TZOFFSETTO:-0500
TZNAME:EST
DTSTART:20191103T060000
END:STANDARD
BEGIN:DAYLIGHT
TZOFFSETFROM:-0500
TZOFFSETTO:-0400
TZNAME:EDT
DTSTART:20200308T070000
END:DAYLIGHT
BEGIN:STANDARD
TZOFFSETFROM:-0400
TZOFFSETTO:-0500
TZNAME:EST
DTSTART:20201101T060000
END:STANDARD
END:VTIMEZONE
BEGIN:VEVENT
DTSTART;TZID=America/Kentucky/Louisville:20191123T090000
DTEND;TZID=America/Kentucky/Louisville:20191123T120000
DTSTAMP:20260422T185333
CREATED:20190621T122211Z
LAST-MODIFIED:20191105T153052Z
UID:10000743-1574499600-1574510400@www.4cforkids.org
SUMMARY:Digging Deeper to Learn with Children
DESCRIPTION:Participants will practice strategies for scaffolding young children’s learning by exploring materials.  The group will reflect on child-centered learning and gain new insights into the lively minds of children.
URL:https://www.4cforkids.org/event/digging-deeper-to-learn-with-children/
LOCATION:Community Coordinated Child Care (4-C)\, 908 S. 8th Street\, Suite 201\, Louisville\, KY\, 40203\, United States
CATEGORIES:All
END:VEVENT
BEGIN:VEVENT
DTSTART;TZID=America/Kentucky/Louisville:20191121T163000
DTEND;TZID=America/Kentucky/Louisville:20191121T193000
DTSTAMP:20260422T185333
CREATED:20190621T122703Z
LAST-MODIFIED:20191112T141603Z
UID:10000747-1574353800-1574364600@www.4cforkids.org
SUMMARY:Learning Through Play
DESCRIPTION:Explore KY Benchmarks and Standards and discover all the skills children gain by learning through play. This free workshop is sponsored by the Jefferson Co. Community Early Childhood Council.
URL:https://www.4cforkids.org/event/learning-through-play/
LOCATION:Community Coordinated Child Care (4-C)\, 908 S. 8th Street\, Suite 201\, Louisville\, KY\, 40203\, United States
CATEGORIES:All
END:VEVENT
BEGIN:VEVENT
DTSTART;TZID=America/Kentucky/Louisville:20191120T120000
DTEND;TZID=America/Kentucky/Louisville:20191120T140000
DTSTAMP:20260422T185333
CREATED:20190621T123756Z
LAST-MODIFIED:20191112T173637Z
UID:10000661-1574251200-1574258400@www.4cforkids.org
SUMMARY:Tools to Promote and Support Your Child Care Program
DESCRIPTION:Discover new tools to help your child care program thrive including how to post job openings for free using the Kentucky Shared Services platform. This free workshop is sponsored by The Kosair Charities Face-It Movement.
URL:https://www.4cforkids.org/event/tools-to-promote-and-support-your-child-care-program-4/
LOCATION:Community Coordinated Child Care (4-C)\, 908 S. 8th Street\, Suite 201\, Louisville\, KY\, 40203\, United States
CATEGORIES:Director
END:VEVENT
BEGIN:VEVENT
DTSTART;TZID=America/Kentucky/Louisville:20191116T083000
DTEND;TZID=America/Kentucky/Louisville:20191116T150000
DTSTAMP:20260422T185333
CREATED:20190621T123856Z
LAST-MODIFIED:20191113T174251Z
UID:10000662-1573893000-1573916400@www.4cforkids.org
SUMMARY:Orientation
DESCRIPTION:This six hour professional development workshop provides overviews of child abuse/neglect\, developmentally appropriate practices\, and health & safety practices. It is required of all new child care staff within the first 90 days of hire.
URL:https://www.4cforkids.org/event/orientation-5/
LOCATION:Community Coordinated Child Care (4-C)\, 908 S. 8th Street\, Suite 201\, Louisville\, KY\, 40203\, United States
CATEGORIES:All
END:VEVENT
BEGIN:VEVENT
DTSTART;TZID=America/Kentucky/Louisville:20191114T180000
DTEND;TZID=America/Kentucky/Louisville:20191114T210000
DTSTAMP:20260422T185333
CREATED:20190621T122602Z
LAST-MODIFIED:20191112T173229Z
UID:10000746-1573754400-1573765200@www.4cforkids.org
SUMMARY:Exploring the Language of Art With School-Agers
DESCRIPTION:Explore various art materials that promote intellectual and social development of school-age children.
URL:https://www.4cforkids.org/event/exploring-the-language-of-art-with-school-agers/
LOCATION:KY
CATEGORIES:All
END:VEVENT
BEGIN:VEVENT
DTSTART;TZID=America/Kentucky/Louisville:20191112T163000
DTEND;TZID=America/Kentucky/Louisville:20191112T193000
DTSTAMP:20260422T185333
CREATED:20190621T122457Z
LAST-MODIFIED:20191112T161455Z
UID:10000745-1573576200-1573587000@www.4cforkids.org
SUMMARY:Guiding Children's Play and Learning
DESCRIPTION:Participants will discuss and observe via classroom videos\, how to guide the hustle and bustle of a group of children while supporting the compelling needs and interests of individuals.
URL:https://www.4cforkids.org/event/guiding-childrens-play-and-learning/
LOCATION:Community Coordinated Child Care (4-C)\, 908 S. 8th Street\, Suite 201\, Louisville\, KY\, 40203\, United States
CATEGORIES:All
END:VEVENT
BEGIN:VEVENT
DTSTART;TZID=America/Kentucky/Louisville:20191107T000000
DTEND;TZID=America/Kentucky/Louisville:20191107T140000
DTSTAMP:20260422T185333
CREATED:20190621T124320Z
LAST-MODIFIED:20190919T184407Z
UID:10000663-1573084800-1573135200@www.4cforkids.org
SUMMARY:Directors Roundtable - The Language of Appreciation
DESCRIPTION:Directors will discover what gives life to their center\, work and team by reflecting on the current culture within the program. The group will examine\, explore and discuss the bestselling book The 5 Languages of Appreciation in the Workplace.  This free workshop is sponsored by the Jefferson Co. Community Early Childhood Council.
URL:https://www.4cforkids.org/event/the-language-of-appreciation/
LOCATION:Community Coordinated Child Care (4-C)\, 908 S. 8th Street\, Suite 201\, Louisville\, KY\, 40203\, United States
CATEGORIES:Director
END:VEVENT
BEGIN:VEVENT
DTSTART;TZID=America/Kentucky/Louisville:20191102T080000
DTEND;TZID=America/Kentucky/Louisville:20191102T143000
DTSTAMP:20260422T185333
CREATED:20190621T122339Z
LAST-MODIFIED:20191031T191435Z
UID:10000744-1572681600-1572705000@www.4cforkids.org
SUMMARY:Six Hour Saturday-Bridge Building with Families and the Classroom
DESCRIPTION:Bridge Building Without Our Expectations of How Families Should be Leading the Relationship – Discover how our expectations of families are often the problem\, not the families themselves. \nBuilding Bridges with Rich Experiences Designed for Families – Explore how to create and design family engagement that is rooted in rich experiences and play-based learning for adults and children. \nBuilding Partnerships: How to Develop Deep Relationships and Family Connections – Explore how effective family engagement opportunities can build strong relationships with the classroom. \nAttend three classes in one day! Each 2 hour class will focus on bridge building. Join us for a dynamic day of professional development with hands-on explorations and lively discussion! Participants will rotate through three classrooms with three different trainers. We will take a 30 minute lunch break\, so please bring your lunch.
URL:https://www.4cforkids.org/event/six-hour-saturday-bridge-building-with-families-and-the-classroom/
LOCATION:Community Coordinated Child Care (4-C)\, 908 S. 8th Street\, Suite 201\, Louisville\, KY\, 40203\, United States
CATEGORIES:All
END:VEVENT
BEGIN:VEVENT
DTSTART;TZID=America/Kentucky/Louisville:20191021T180000
DTEND;TZID=America/Kentucky/Louisville:20191021T200000
DTSTAMP:20260422T185333
CREATED:20190621T121913Z
LAST-MODIFIED:20190919T183221Z
UID:10000740-1571680800-1571688000@www.4cforkids.org
SUMMARY:Pediatric Abusive Head Trauma
DESCRIPTION:This training was designed for child care providers and staff on recognition and prevention Pediatric Abusive Head Trauma. Participants will learn the early signs of maltreatment and the various injuries and conditions that may result from vigorous shaking\, slamming or impacting the head of an infant or young child. They will also be provided tools for dealing with a crying infant and ways to share information with parents to prevent abuse from occurring. Training objectives are to review the statistics of abusive head trauma; to define and describe abusive head trauma and its associated injuries; to discuss risk factors and prevention\, and to understand the outcomes for victims. \nLicensed and Certified Child Care providers are now required to obtain a minimum of 1.5 clock hours of training every 5 years in the area of Pediatric Abusive Head Trauma.
URL:https://www.4cforkids.org/event/pediatric-abusive-head-trauma-2/
LOCATION:Community Coordinated Child Care (4-C)\, 908 S. 8th Street\, Suite 201\, Louisville\, KY\, 40203\, United States
CATEGORIES:All
END:VEVENT
BEGIN:VEVENT
DTSTART;TZID=America/Kentucky/Louisville:20191019T083000
DTEND;TZID=America/Kentucky/Louisville:20191019T150000
DTSTAMP:20260422T185333
CREATED:20190619T195413Z
LAST-MODIFIED:20190919T174109Z
UID:10000738-1571473800-1571497200@www.4cforkids.org
SUMMARY:Orientation
DESCRIPTION:This six hour professional development workshop provides overviews of child abuse/neglect\, developmentally appropriate practices\, and health & safety practices. It is required of all new child care staff within the first 90 days of hire.
URL:https://www.4cforkids.org/event/orientation-4/
LOCATION:Community Coordinated Child Care (4-C)\, 908 S. 8th Street\, Suite 201\, Louisville\, KY\, 40203\, United States
CATEGORIES:All
END:VEVENT
BEGIN:VEVENT
DTSTART;TZID=America/Kentucky/Louisville:20191015T163000
DTEND;TZID=America/Kentucky/Louisville:20191015T193000
DTSTAMP:20260422T185333
CREATED:20190621T122049Z
LAST-MODIFIED:20190919T175413Z
UID:10000742-1571157000-1571167800@www.4cforkids.org
SUMMARY:Creating a Curriculum Outside the Class
DESCRIPTION:Gain a deeper understanding of how to create a curriculum with a connection to nature. (Participants will be outside if weather is permissible.)
URL:https://www.4cforkids.org/event/creating-a-curriculum-outside-the-class/
LOCATION:Community Coordinated Child Care (4-C)\, 908 S. 8th Street\, Suite 201\, Louisville\, KY\, 40203\, United States
CATEGORIES:All
END:VEVENT
BEGIN:VEVENT
DTSTART;TZID=America/Kentucky/Louisville:20191010T163000
DTEND;TZID=America/Kentucky/Louisville:20191010T193000
DTSTAMP:20260422T185333
CREATED:20190619T195012Z
LAST-MODIFIED:20190919T175234Z
UID:10000736-1570725000-1570735800@www.4cforkids.org
SUMMARY:The Tip of the Iceberg: Understanding Challenging Behavior in Young Children
DESCRIPTION:Learn about meeting the needs of the whole child\, understanding that all behavior is a form of communication\, and examining our own reactions and behaviors.
URL:https://www.4cforkids.org/event/the-tip-of-the-iceberg-understanding-challenging-behavior-in-young-children/
LOCATION:Community Coordinated Child Care (4-C)\, 908 S. 8th Street\, Suite 201\, Louisville\, KY\, 40203\, United States
CATEGORIES:All
END:VEVENT
BEGIN:VEVENT
DTSTART;TZID=America/Kentucky/Louisville:20191010T120000
DTEND;TZID=America/Kentucky/Louisville:20191010T140000
DTSTAMP:20260422T185333
CREATED:20190619T194205Z
LAST-MODIFIED:20190919T184208Z
UID:10000734-1570708800-1570716000@www.4cforkids.org
SUMMARY:Directors Roundtable - Cultivating a Culture of Inquiry!
DESCRIPTION:Leaders in the field of early care and education will be introduced to adult learning theories. The participants will explore rich materials and discuss how to create parallel play with adults to build a culture of inquiry within the center. The directors will learn about the top five strategies to cultivate a culture of inquiry.
URL:https://www.4cforkids.org/event/directors-roundtable-cultivating-a-culture-of-inquiry/
LOCATION:Community Coordinated Child Care (4-C)\, 908 S. 8th Street\, Suite 201\, Louisville\, KY\, 40203\, United States
CATEGORIES:Director
END:VEVENT
BEGIN:VEVENT
DTSTART;TZID=America/Kentucky/Louisville:20190926T180000
DTEND;TZID=America/Kentucky/Louisville:20190926T210000
DTSTAMP:20260422T185333
CREATED:20190619T193357Z
LAST-MODIFIED:20190919T185018Z
UID:10000732-1569520800-1569531600@www.4cforkids.org
SUMMARY:Loose Parts: Endless Creativity Leads to Rich Observations
DESCRIPTION:Discuss and explore new material to offer children and opportunity to practice observation.
URL:https://www.4cforkids.org/event/loose-parts-endless-creativity-leads-to-rich-observations/
LOCATION:KY
CATEGORIES:All
END:VEVENT
BEGIN:VEVENT
DTSTART;TZID=America/Kentucky/Louisville:20190921T090000
DTEND;TZID=America/Kentucky/Louisville:20190921T120000
DTSTAMP:20260422T185333
CREATED:20190619T191802Z
LAST-MODIFIED:20190903T192440Z
UID:10000730-1569056400-1569067200@www.4cforkids.org
SUMMARY:Introduction to Creative Curriculum *This session is full.*
DESCRIPTION:Explore Creative Curriculum and practice strategies that promote reflection\, observation and child directed learning.
URL:https://www.4cforkids.org/event/introduction-to-creative-curriculum/
LOCATION:Community Coordinated Child Care (4-C)\, 908 S. 8th Street\, Suite 201\, Louisville\, KY\, 40203\, United States
CATEGORIES:All
END:VEVENT
BEGIN:VEVENT
DTSTART;TZID=America/Kentucky/Louisville:20190914T083000
DTEND;TZID=America/Kentucky/Louisville:20190914T150000
DTSTAMP:20260422T185333
CREATED:20190619T191239Z
LAST-MODIFIED:20190904T141244Z
UID:10000728-1568449800-1568473200@www.4cforkids.org
SUMMARY:Orientation
DESCRIPTION:This six hour professional development workshop provides overviews of child abuse/neglect\, developmentally appropriate practices\, and health & safety practices. It is required of all new child care staff within the first 90 days of hire.
URL:https://www.4cforkids.org/event/orientation-3/
LOCATION:Community Coordinated Child Care (4-C)\, 908 S. 8th Street\, Suite 201\, Louisville\, KY\, 40203\, United States
CATEGORIES:All
END:VEVENT
BEGIN:VEVENT
DTSTART;TZID=America/Kentucky/Louisville:20190912T120000
DTEND;TZID=America/Kentucky/Louisville:20190912T140000
DTSTAMP:20260422T185333
CREATED:20190619T190520Z
LAST-MODIFIED:20190909T181742Z
UID:10000726-1568289600-1568296800@www.4cforkids.org
SUMMARY:Directors Roundtable - What Matters Most?
DESCRIPTION:Directors will explore best practices surrounding regulations\, ALL STARS\, and other hot topics. The group will learn about local resources and supports that help directors deepen their knowledge around child care based leadership.
URL:https://www.4cforkids.org/event/directors-roundtable-what-matters-most/
LOCATION:Community Coordinated Child Care (4-C)\, 908 S. 8th Street\, Suite 201\, Louisville\, KY\, 40203\, United States
CATEGORIES:Director
END:VEVENT
BEGIN:VEVENT
DTSTART;TZID=America/Kentucky/Louisville:20190911T123000
DTEND;TZID=America/Kentucky/Louisville:20190911T143000
DTSTAMP:20260422T185333
CREATED:20190904T195922Z
LAST-MODIFIED:20190905T132226Z
UID:10000667-1568205000-1568212200@www.4cforkids.org
SUMMARY:Tools to Promote and Support Your Child Care Program
DESCRIPTION:Discover new tools to help your child care program thrive. In this class for administrators\, learn how to access and use the Kentucky Shared Services platform\, which is specifically designed for child care providers\, including tools for marketing\, free job postings\, strengthening families\, and templates for policies\, handbooks\, and communications…and more! \nThis workshop is in collaboration with Child Care Aware and will be held at Jefferson Community and Technical College. \nThank you to Face It for sponsoring this event!
URL:https://www.4cforkids.org/event/tools-to-promote-and-support-your-child-care-program-5/
LOCATION:KY
CATEGORIES:Director
END:VEVENT
BEGIN:VEVENT
DTSTART;TZID=America/Kentucky/Louisville:20190910T163000
DTEND;TZID=America/Kentucky/Louisville:20190910T193000
DTSTAMP:20260422T185333
CREATED:20190619T185927Z
LAST-MODIFIED:20190910T163036Z
UID:10000724-1568133000-1568143800@www.4cforkids.org
SUMMARY:An Overview: Recognizing and Reporting Child Abuse and Neglect
DESCRIPTION:Participants will gain an understanding of child maltreatment and related implications\, including when and how to report suspected child abuse and neglect.
URL:https://www.4cforkids.org/event/an-overview-recognizing-and-reporting-child-abuse-and-neglect/
LOCATION:Community Coordinated Child Care (4-C)\, 908 S. 8th Street\, Suite 201\, Louisville\, KY\, 40203\, United States
CATEGORIES:All
END:VEVENT
BEGIN:VEVENT
DTSTART;TZID=America/Kentucky/Louisville:20190830T120000
DTEND;TZID=America/Kentucky/Louisville:20190830T140000
DTSTAMP:20260422T185333
CREATED:20190619T185127Z
LAST-MODIFIED:20190619T185127Z
UID:10000722-1567166400-1567173600@www.4cforkids.org
SUMMARY:Tools to Promote and Support Your Child Care Program
DESCRIPTION:Discover new tools to help your child care program thrive. In this class for administrators\, learn how to access and use the Kentucky Shared Services platform\, which is specifically designed for child care providers\, including tools for marketing\, free job postings\, strengthening families\, and templates for policies\, handbooks\, and communications… and more!
URL:https://www.4cforkids.org/event/tools-to-promote-and-support-your-child-care-program-3/
LOCATION:KY
CATEGORIES:Director
END:VEVENT
BEGIN:VEVENT
DTSTART;TZID=America/Kentucky/Louisville:20190820T163000
DTEND;TZID=America/Kentucky/Louisville:20190820T193000
DTSTAMP:20260422T185333
CREATED:20190619T183252Z
LAST-MODIFIED:20190711T151321Z
UID:10000721-1566318600-1566329400@www.4cforkids.org
SUMMARY:The Importance of Big Body Play: Essential sensory needs for healthy brain development.
DESCRIPTION:Meeting children’s needs for big body play in the classroom to create healthy bodies and brains.
URL:https://www.4cforkids.org/event/the-importance-of-big-body-play-essential-sensory-needs-for-healthy-brain-development/
LOCATION:Community Coordinated Child Care (4-C)\, 908 S. 8th Street\, Suite 201\, Louisville\, KY\, 40203\, United States
CATEGORIES:All
END:VEVENT
BEGIN:VEVENT
DTSTART;TZID=America/Kentucky/Louisville:20190815T080000
DTEND;TZID=America/Kentucky/Louisville:20190815T150000
DTSTAMP:20260422T185333
CREATED:20190612T171836Z
LAST-MODIFIED:20190619T182433Z
UID:10000714-1565856000-1565881200@www.4cforkids.org
SUMMARY:Orientation
DESCRIPTION:This six hour professional development workshop provides overviews of child abuse/neglect\, developmentally appropriate practices\, and health & safety practices. It is required of all new child care staff within the first 90 days of hire.
URL:https://www.4cforkids.org/event/orientation/
LOCATION:Community Coordinated Child Care (4-C)\, 908 S. 8th Street\, Suite 201\, Louisville\, KY\, 40203\, United States
CATEGORIES:All
ATTACH;FMTTYPE=image/jpeg:https://www.4cforkids.org/wp-content/uploads/2019/05/Orientation.jpg
END:VEVENT
BEGIN:VEVENT
DTSTART;TZID=America/Kentucky/Louisville:20190812T180000
DTEND;TZID=America/Kentucky/Louisville:20190812T200000
DTSTAMP:20260422T185333
CREATED:20190619T182143Z
LAST-MODIFIED:20190816T170841Z
UID:10000720-1565632800-1565640000@www.4cforkids.org
SUMMARY:Pediatric Abusive Head Trauma
DESCRIPTION:This training was designed for child care providers and staff on recognition and prevention Pediatric Abusive Head Trauma. Participants will learn the early signs of maltreatment and the various injuries and conditions that may result from vigorous shaking\, slamming or impacting the head of an infant or young child. They will also be provided tools for dealing with a crying infant and ways to share information with parents to prevent abuse from occurring. Training objectives are to review the statistics of abusive head trauma; to define and describe abusive head trauma and its associated injuries; to discuss risk factors and prevention\, and to understand the outcomes for victims. \nLicensed and Certified Child Care providers are now required to obtain a minimum of 1.5 clock hours of training every 5 years in the area of Pediatric Abusive Head Trauma.
URL:https://www.4cforkids.org/event/pediatric-abusive-head-trauma/
LOCATION:Community Coordinated Child Care (4-C)\, 908 S. 8th Street\, Suite 201\, Louisville\, KY\, 40203\, United States
CATEGORIES:All
END:VEVENT
BEGIN:VEVENT
DTSTART;TZID=America/Kentucky/Louisville:20190808T155647
DTEND;TZID=America/Kentucky/Louisville:20190808T155647
DTSTAMP:20260422T185333
CREATED:20190808T155647Z
LAST-MODIFIED:20190808T155647Z
UID:10000666-1565279807-1565279807@www.4cforkids.org
SUMMARY:Test Event
DESCRIPTION:
URL:https://www.4cforkids.org/event/test-event/
LOCATION:KY
END:VEVENT
BEGIN:VEVENT
DTSTART;TZID=America/Kentucky/Louisville:20190808T120000
DTEND;TZID=America/Kentucky/Louisville:20190808T140000
DTSTAMP:20260422T185333
CREATED:20190619T181305Z
LAST-MODIFIED:20190711T154659Z
UID:10000719-1565265600-1565272800@www.4cforkids.org
SUMMARY:Kentucky Strengthening Families: Part II
DESCRIPTION:Participants will be introduced to Strengthening Families: A Protective Factors Framework through Early Care & Education by the Center for the Study of Social Policy. This will be a 2 part series with a center assessment that must be completed by the 2nd session in order to get the full 6 credit hours.
URL:https://www.4cforkids.org/event/kentucky-strengthening-families-part-ii/
LOCATION:Community Coordinated Child Care (4-C)\, 908 S. 8th Street\, Suite 201\, Louisville\, KY\, 40203\, United States
CATEGORIES:Director
END:VEVENT
BEGIN:VEVENT
DTSTART;TZID=America/Kentucky/Louisville:20190801T120000
DTEND;TZID=America/Kentucky/Louisville:20190801T140000
DTSTAMP:20260422T185333
CREATED:20190619T180829Z
LAST-MODIFIED:20190711T155222Z
UID:10000718-1564660800-1564668000@www.4cforkids.org
SUMMARY:Kentucky Strengthening Families: Part I
DESCRIPTION:Participants will be introduced to Strengthening Families: A Protective Factors Framework through Early Care & Education by the Center for the Study of Social Policy. This will be a 2 part series with a center assessment that must be completed by the 2nd session in order to get the full 6 credit hours. \n 
URL:https://www.4cforkids.org/event/kentucky-strengthening-families-part-i-ii/
LOCATION:Community Coordinated Child Care (4-C)\, 908 S. 8th Street\, Suite 201\, Louisville\, KY\, 40203\, United States
CATEGORIES:Director
END:VEVENT
BEGIN:VEVENT
DTSTART;TZID=America/Kentucky/Louisville:20190725T163000
DTEND;TZID=America/Kentucky/Louisville:20190725T193000
DTSTAMP:20260422T185333
CREATED:20190619T175534Z
LAST-MODIFIED:20190711T141146Z
UID:10000717-1564072200-1564083000@www.4cforkids.org
SUMMARY:Exploring Clay
DESCRIPTION:Discover the steps to take children from the physical\, experiential knowledge of natural clay to being able to use it for personal representation.
URL:https://www.4cforkids.org/event/exploring-clay/
LOCATION:Community Coordinated Child Care (4-C)\, 908 S. 8th Street\, Suite 201\, Louisville\, KY\, 40203\, United States
CATEGORIES:All
END:VEVENT
BEGIN:VEVENT
DTSTART;TZID=America/Kentucky/Louisville:20190717T120000
DTEND;TZID=America/Kentucky/Louisville:20190717T140000
DTSTAMP:20260422T185333
CREATED:20190619T173934Z
LAST-MODIFIED:20190620T200447Z
UID:10000716-1563364800-1563372000@www.4cforkids.org
SUMMARY:Tools to Promote and Support Your Child Care Program
DESCRIPTION:Discover new tools to help your child care program thrive including how to post job openings for free using the Kentucky Shared Services platform.
URL:https://www.4cforkids.org/event/tools-to-promote-and-support-your-child-care-program-2/
LOCATION:Neighborhood House\, 201 North 25th Street\, Louisville\, KY\, 40212\, United States
CATEGORIES:Director
END:VEVENT
BEGIN:VEVENT
DTSTART;TZID=America/Kentucky/Louisville:20190713T083000
DTEND;TZID=America/Kentucky/Louisville:20190713T150000
DTSTAMP:20260422T185334
CREATED:20190613T150149Z
LAST-MODIFIED:20190619T143800Z
UID:10000715-1563006600-1563030000@www.4cforkids.org
SUMMARY:Orientation
DESCRIPTION:Overviews of abuse/neglect\, developmentally appropriate practices\, health & safety.
URL:https://www.4cforkids.org/event/orientation-2/
LOCATION:Community Coordinated Child Care (4-C)\, 908 S. 8th Street\, Suite 201\, Louisville\, KY\, 40203\, United States
CATEGORIES:All
END:VEVENT
END:VCALENDAR