BEGIN:VCALENDAR
VERSION:2.0
PRODID:-//Community Coordinated Child Care - ECPv6.15.20//NONSGML v1.0//EN
CALSCALE:GREGORIAN
METHOD:PUBLISH
X-WR-CALNAME:Community Coordinated Child Care
X-ORIGINAL-URL:https://www.4cforkids.org
X-WR-CALDESC:Events for Community Coordinated Child Care
REFRESH-INTERVAL;VALUE=DURATION:PT1H
X-Robots-Tag:noindex
X-PUBLISHED-TTL:PT1H
BEGIN:VTIMEZONE
TZID:America/Kentucky/Louisville
BEGIN:DAYLIGHT
TZOFFSETFROM:-0500
TZOFFSETTO:-0400
TZNAME:EDT
DTSTART:20180311T070000
END:DAYLIGHT
BEGIN:STANDARD
TZOFFSETFROM:-0400
TZOFFSETTO:-0500
TZNAME:EST
DTSTART:20181104T060000
END:STANDARD
BEGIN:DAYLIGHT
TZOFFSETFROM:-0500
TZOFFSETTO:-0400
TZNAME:EDT
DTSTART:20190310T070000
END:DAYLIGHT
BEGIN:STANDARD
TZOFFSETFROM:-0400
TZOFFSETTO:-0500
TZNAME:EST
DTSTART:20191103T060000
END:STANDARD
BEGIN:DAYLIGHT
TZOFFSETFROM:-0500
TZOFFSETTO:-0400
TZNAME:EDT
DTSTART:20200308T070000
END:DAYLIGHT
BEGIN:STANDARD
TZOFFSETFROM:-0400
TZOFFSETTO:-0500
TZNAME:EST
DTSTART:20201101T060000
END:STANDARD
END:VTIMEZONE
BEGIN:VEVENT
DTSTART;TZID=America/Kentucky/Louisville:20191010T120000
DTEND;TZID=America/Kentucky/Louisville:20191010T140000
DTSTAMP:20260422T185040
CREATED:20190619T194205Z
LAST-MODIFIED:20190919T184208Z
UID:10000734-1570708800-1570716000@www.4cforkids.org
SUMMARY:Directors Roundtable - Cultivating a Culture of Inquiry!
DESCRIPTION:Leaders in the field of early care and education will be introduced to adult learning theories. The participants will explore rich materials and discuss how to create parallel play with adults to build a culture of inquiry within the center. The directors will learn about the top five strategies to cultivate a culture of inquiry.
URL:https://www.4cforkids.org/event/directors-roundtable-cultivating-a-culture-of-inquiry/
LOCATION:Community Coordinated Child Care (4-C)\, 908 S. 8th Street\, Suite 201\, Louisville\, KY\, 40203\, United States
CATEGORIES:Director
END:VEVENT
BEGIN:VEVENT
DTSTART;TZID=America/Kentucky/Louisville:20191010T163000
DTEND;TZID=America/Kentucky/Louisville:20191010T193000
DTSTAMP:20260422T185040
CREATED:20190619T195012Z
LAST-MODIFIED:20190919T175234Z
UID:10000736-1570725000-1570735800@www.4cforkids.org
SUMMARY:The Tip of the Iceberg: Understanding Challenging Behavior in Young Children
DESCRIPTION:Learn about meeting the needs of the whole child\, understanding that all behavior is a form of communication\, and examining our own reactions and behaviors.
URL:https://www.4cforkids.org/event/the-tip-of-the-iceberg-understanding-challenging-behavior-in-young-children/
LOCATION:Community Coordinated Child Care (4-C)\, 908 S. 8th Street\, Suite 201\, Louisville\, KY\, 40203\, United States
CATEGORIES:All
END:VEVENT
BEGIN:VEVENT
DTSTART;TZID=America/Kentucky/Louisville:20191015T163000
DTEND;TZID=America/Kentucky/Louisville:20191015T193000
DTSTAMP:20260422T185040
CREATED:20190621T122049Z
LAST-MODIFIED:20190919T175413Z
UID:10000742-1571157000-1571167800@www.4cforkids.org
SUMMARY:Creating a Curriculum Outside the Class
DESCRIPTION:Gain a deeper understanding of how to create a curriculum with a connection to nature. (Participants will be outside if weather is permissible.)
URL:https://www.4cforkids.org/event/creating-a-curriculum-outside-the-class/
LOCATION:Community Coordinated Child Care (4-C)\, 908 S. 8th Street\, Suite 201\, Louisville\, KY\, 40203\, United States
CATEGORIES:All
END:VEVENT
BEGIN:VEVENT
DTSTART;TZID=America/Kentucky/Louisville:20191019T083000
DTEND;TZID=America/Kentucky/Louisville:20191019T150000
DTSTAMP:20260422T185040
CREATED:20190619T195413Z
LAST-MODIFIED:20190919T174109Z
UID:10000738-1571473800-1571497200@www.4cforkids.org
SUMMARY:Orientation
DESCRIPTION:This six hour professional development workshop provides overviews of child abuse/neglect\, developmentally appropriate practices\, and health & safety practices. It is required of all new child care staff within the first 90 days of hire.
URL:https://www.4cforkids.org/event/orientation-4/
LOCATION:Community Coordinated Child Care (4-C)\, 908 S. 8th Street\, Suite 201\, Louisville\, KY\, 40203\, United States
CATEGORIES:All
END:VEVENT
BEGIN:VEVENT
DTSTART;TZID=America/Kentucky/Louisville:20191021T180000
DTEND;TZID=America/Kentucky/Louisville:20191021T200000
DTSTAMP:20260422T185040
CREATED:20190621T121913Z
LAST-MODIFIED:20190919T183221Z
UID:10000740-1571680800-1571688000@www.4cforkids.org
SUMMARY:Pediatric Abusive Head Trauma
DESCRIPTION:This training was designed for child care providers and staff on recognition and prevention Pediatric Abusive Head Trauma. Participants will learn the early signs of maltreatment and the various injuries and conditions that may result from vigorous shaking\, slamming or impacting the head of an infant or young child. They will also be provided tools for dealing with a crying infant and ways to share information with parents to prevent abuse from occurring. Training objectives are to review the statistics of abusive head trauma; to define and describe abusive head trauma and its associated injuries; to discuss risk factors and prevention\, and to understand the outcomes for victims. \nLicensed and Certified Child Care providers are now required to obtain a minimum of 1.5 clock hours of training every 5 years in the area of Pediatric Abusive Head Trauma.
URL:https://www.4cforkids.org/event/pediatric-abusive-head-trauma-2/
LOCATION:Community Coordinated Child Care (4-C)\, 908 S. 8th Street\, Suite 201\, Louisville\, KY\, 40203\, United States
CATEGORIES:All
END:VEVENT
END:VCALENDAR