BEGIN:VCALENDAR
VERSION:2.0
PRODID:-//Community Coordinated Child Care - ECPv6.15.20//NONSGML v1.0//EN
CALSCALE:GREGORIAN
METHOD:PUBLISH
X-ORIGINAL-URL:https://www.4cforkids.org
X-WR-CALDESC:Events for Community Coordinated Child Care
REFRESH-INTERVAL;VALUE=DURATION:PT1H
X-Robots-Tag:noindex
X-PUBLISHED-TTL:PT1H
BEGIN:VTIMEZONE
TZID:America/Kentucky/Louisville
BEGIN:DAYLIGHT
TZOFFSETFROM:-0500
TZOFFSETTO:-0400
TZNAME:EDT
DTSTART:20180311T070000
END:DAYLIGHT
BEGIN:STANDARD
TZOFFSETFROM:-0400
TZOFFSETTO:-0500
TZNAME:EST
DTSTART:20181104T060000
END:STANDARD
BEGIN:DAYLIGHT
TZOFFSETFROM:-0500
TZOFFSETTO:-0400
TZNAME:EDT
DTSTART:20190310T070000
END:DAYLIGHT
BEGIN:STANDARD
TZOFFSETFROM:-0400
TZOFFSETTO:-0500
TZNAME:EST
DTSTART:20191103T060000
END:STANDARD
BEGIN:DAYLIGHT
TZOFFSETFROM:-0500
TZOFFSETTO:-0400
TZNAME:EDT
DTSTART:20200308T070000
END:DAYLIGHT
BEGIN:STANDARD
TZOFFSETFROM:-0400
TZOFFSETTO:-0500
TZNAME:EST
DTSTART:20201101T060000
END:STANDARD
END:VTIMEZONE
BEGIN:VEVENT
DTSTART;TZID=America/Kentucky/Louisville:20191203T163000
DTEND;TZID=America/Kentucky/Louisville:20191203T193000
DTSTAMP:20260422T162344
CREATED:20190621T122816Z
LAST-MODIFIED:20191112T173756Z
UID:10000748-1575390600-1575401400@www.4cforkids.org
SUMMARY:Well\, That Explains It! Exploring Schemas in Children's Play
DESCRIPTION:Learn that by looking at the children’s interests you can plan experiences that they will really enjoy and extend their thinking.
URL:https://www.4cforkids.org/event/well-that-explains-it-exploring-schemas-in-childrens-play/
LOCATION:Community Coordinated Child Care (4-C)\, 908 S. 8th Street\, Suite 201\, Louisville\, KY\, 40203\, United States
CATEGORIES:All
END:VEVENT
BEGIN:VEVENT
DTSTART;TZID=America/Kentucky/Louisville:20191207T090000
DTEND;TZID=America/Kentucky/Louisville:20191207T120000
DTSTAMP:20260422T162344
CREATED:20190621T122930Z
LAST-MODIFIED:20191125T175407Z
UID:10000659-1575709200-1575720000@www.4cforkids.org
SUMMARY:Yoga and Mindfulness for Early Childhood Educators: Part II
DESCRIPTION:Explore ways to bring social and emotional learning practices into your classroom using the fun of yoga and mindfulness. This workshop builds on what was covered in Part I\, however you did not have to attend in the previous workshop to get value from this one!
URL:https://www.4cforkids.org/event/yoga-and-mindfulness-for-early-childhood-educators-part-ii/
LOCATION:Community Coordinated Child Care (4-C)\, 908 S. 8th Street\, Suite 201\, Louisville\, KY\, 40203\, United States
CATEGORIES:All
END:VEVENT
BEGIN:VEVENT
DTSTART;TZID=America/Kentucky/Louisville:20191209T180000
DTEND;TZID=America/Kentucky/Louisville:20191209T200000
DTSTAMP:20260422T162344
CREATED:20190621T123043Z
LAST-MODIFIED:20191204T185507Z
UID:10000660-1575914400-1575921600@www.4cforkids.org
SUMMARY:Pediatric Abusive Head Trauma
DESCRIPTION:This training was designed for child care providers and staff on recognition and prevention Pediatric Abusive Head Trauma. Participants will learn the early signs of maltreatment and the various injuries and conditions that may result from vigorous shaking\, slamming or impacting the head of an infant or young child. They will also be provided tools for dealing with a crying infant and ways to share information with parents to prevent abuse from occurring. Training objectives are to review the statistics of abusive head trauma; to define and describe abusive head trauma and its associated injuries; to discuss risk factors and prevention\, and to understand the outcomes for victims. \nLicensed and Certified Child Care providers are now required to obtain a minimum of 1.5 clock hours of training every 5 years in the area of Pediatric Abusive Head Trauma.
URL:https://www.4cforkids.org/event/pediatric-abusive-head-trauma-3/
LOCATION:Community Coordinated Child Care (4-C)\, 908 S. 8th Street\, Suite 201\, Louisville\, KY\, 40203\, United States
CATEGORIES:All,Director,Infant/Toddler,Preschool,School Age
END:VEVENT
BEGIN:VEVENT
DTSTART;TZID=America/Kentucky/Louisville:20191211T120000
DTEND;TZID=America/Kentucky/Louisville:20191211T140000
DTSTAMP:20260422T162344
CREATED:20190711T145037Z
LAST-MODIFIED:20191114T173219Z
UID:10000665-1576065600-1576072800@www.4cforkids.org
SUMMARY:Directors Roundtable - Maximizing the Fit!
DESCRIPTION:Directors will be introduced to strategies that maximize fit with new and experienced staff.  The directors will discuss how to lead from their strengths while looking with eyes of appreciation. This free workshop is sponsored by the Jefferson Co. Community Early Childhood Council.
URL:https://www.4cforkids.org/event/maximizing-the-fit/
LOCATION:Community Coordinated Child Care (4-C)\, 908 S. 8th Street\, Suite 201\, Louisville\, KY\, 40203\, United States
CATEGORIES:Director
END:VEVENT
BEGIN:VEVENT
DTSTART;TZID=America/Kentucky/Louisville:20191217T083000
DTEND;TZID=America/Kentucky/Louisville:20191217T150000
DTSTAMP:20260422T162344
CREATED:20190711T144949Z
LAST-MODIFIED:20191216T143212Z
UID:10000664-1576571400-1576594800@www.4cforkids.org
SUMMARY:Orientation
DESCRIPTION:This six hour professional development workshop provides overviews of child abuse/neglect\, developmentally appropriate practices\, and health & safety practices. It is required of all new child care staff within the first 90 days of hire.
URL:https://www.4cforkids.org/event/orientation-6/
LOCATION:Community Coordinated Child Care (4-C)\, 908 S. 8th Street\, Suite 201\, Louisville\, KY\, 40203\, United States
CATEGORIES:All,Director,Infant/Toddler,Preschool,School Age
END:VEVENT
END:VCALENDAR