BEGIN:VCALENDAR
VERSION:2.0
PRODID:-//Community Coordinated Child Care - ECPv6.15.20//NONSGML v1.0//EN
CALSCALE:GREGORIAN
METHOD:PUBLISH
X-WR-CALNAME:Community Coordinated Child Care
X-ORIGINAL-URL:https://www.4cforkids.org
X-WR-CALDESC:Events for Community Coordinated Child Care
REFRESH-INTERVAL;VALUE=DURATION:PT1H
X-Robots-Tag:noindex
X-PUBLISHED-TTL:PT1H
BEGIN:VTIMEZONE
TZID:America/Kentucky/Louisville
BEGIN:DAYLIGHT
TZOFFSETFROM:-0500
TZOFFSETTO:-0400
TZNAME:EDT
DTSTART:20190310T070000
END:DAYLIGHT
BEGIN:STANDARD
TZOFFSETFROM:-0400
TZOFFSETTO:-0500
TZNAME:EST
DTSTART:20191103T060000
END:STANDARD
BEGIN:DAYLIGHT
TZOFFSETFROM:-0500
TZOFFSETTO:-0400
TZNAME:EDT
DTSTART:20200308T070000
END:DAYLIGHT
BEGIN:STANDARD
TZOFFSETFROM:-0400
TZOFFSETTO:-0500
TZNAME:EST
DTSTART:20201101T060000
END:STANDARD
BEGIN:DAYLIGHT
TZOFFSETFROM:-0500
TZOFFSETTO:-0400
TZNAME:EDT
DTSTART:20210314T070000
END:DAYLIGHT
BEGIN:STANDARD
TZOFFSETFROM:-0400
TZOFFSETTO:-0500
TZNAME:EST
DTSTART:20211107T060000
END:STANDARD
END:VTIMEZONE
BEGIN:VEVENT
DTSTART;TZID=America/Kentucky/Louisville:20200107T163000
DTEND;TZID=America/Kentucky/Louisville:20200107T193000
DTSTAMP:20260422T150953
CREATED:20191114T161755Z
LAST-MODIFIED:20191217T142851Z
UID:10000668-1578414600-1578425400@www.4cforkids.org
SUMMARY:Slow Down\, What’s Your Hurry?
DESCRIPTION:Gain an understanding that the little ones themselves are the curriculum. Creating a relaxed\, engaging environment for the many routine moments during the day creates calm and wonder for everyone to enjoy. \nLevel 2 CDA 2 CC 4 Audience-I/T
URL:https://www.4cforkids.org/event/slow-down-whats-your-hurry/
LOCATION:Community Coordinated Child Care (4-C)\, 908 S. 8th Street\, Suite 201\, Louisville\, KY\, 40203\, United States
CATEGORIES:All,Infant/Toddler
END:VEVENT
BEGIN:VEVENT
DTSTART;TZID=America/Kentucky/Louisville:20200109T120000
DTEND;TZID=America/Kentucky/Louisville:20200109T140000
DTSTAMP:20260422T150953
CREATED:20191114T173343Z
LAST-MODIFIED:20200108T133022Z
UID:10000749-1578571200-1578578400@www.4cforkids.org
SUMMARY:Directors Roundtable-Strengthening Business Practices Budgets\, Projections and Planning
DESCRIPTION:Learn about the value of developing a budget and how to use it for decision making throughout the year. Discover tools that help project business costs. Engage in activities that help generate additional income ideas\, and plan strategically for future goals. \nThis workshop is free thanks to the generous sponsorship by the Jefferson County Community Early Childhood Council through a grant from the Governor’s Office of Early Childhood. \nLevel 3 CDA 5 CC 7 Audience-D
URL:https://www.4cforkids.org/event/directors-roundtable-strengthening-business-practices-budgets-projections-and-planning/
LOCATION:Community Coordinated Child Care (4-C)\, 908 S. 8th Street\, Suite 201\, Louisville\, KY\, 40203\, United States
CATEGORIES:Director
END:VEVENT
BEGIN:VEVENT
DTSTART;TZID=America/Kentucky/Louisville:20200116T163000
DTEND;TZID=America/Kentucky/Louisville:20200116T193000
DTSTAMP:20260422T150953
CREATED:20191114T174709Z
LAST-MODIFIED:20191204T185426Z
UID:10000750-1579192200-1579203000@www.4cforkids.org
SUMMARY:Trauma Centered Classrooms
DESCRIPTION:Gain an understanding of what trauma is and how it hinders the learning\, motivation\, and success of all students in the classroom. Develop strategies to build strong relationships and create a safe space to enable children to learn at high levels. Explore a strengths-based approach that leads to a new way to view destructive student behaviors and to perceive what students need to break negative cycles. Learn self-care techniques that will help avoid burnout and help children flourish. \nLevel 2 CDA 3 CC 4 Audience-PS
URL:https://www.4cforkids.org/event/trauma-centered-classrooms/
LOCATION:Community Coordinated Child Care (4-C)\, 908 S. 8th Street\, Suite 201\, Louisville\, KY\, 40203\, United States
CATEGORIES:All,Preschool
END:VEVENT
BEGIN:VEVENT
DTSTART;TZID=America/Kentucky/Louisville:20200118T083000
DTEND;TZID=America/Kentucky/Louisville:20200118T150000
DTSTAMP:20260422T150953
CREATED:20191114T181028Z
LAST-MODIFIED:20191217T143939Z
UID:10000751-1579336200-1579359600@www.4cforkids.org
SUMMARY:Orientation
DESCRIPTION:This six hour professional development workshop provides overviews of child abuse/neglect\, developmentally appropriate practices\, and health & safety practices. It is required of all new child care staff within the first 90 days of hire. \nLevel 1 CDA 1\,2\,3\,8 CC 1\,2\,4 Audience-All
URL:https://www.4cforkids.org/event/orientation-7/
LOCATION:Community Coordinated Child Care (4-C)\, 908 S. 8th Street\, Suite 201\, Louisville\, KY\, 40203\, United States
CATEGORIES:All,Director,Infant/Toddler,Preschool,School Age
END:VEVENT
BEGIN:VEVENT
DTSTART;TZID=America/Kentucky/Louisville:20200125T090000
DTEND;TZID=America/Kentucky/Louisville:20200125T120000
DTSTAMP:20260422T150953
CREATED:20191114T184809Z
LAST-MODIFIED:20191204T202326Z
UID:10000752-1579942800-1579953600@www.4cforkids.org
SUMMARY:A View from Below: Observation and Documentation from a Child's Point of View
DESCRIPTION:Gain new insight and perspectives as you learn to observe and document from a child’s point of view. \nLevel 2 CDA 7
URL:https://www.4cforkids.org/event/a-view-from-below-observation-and-documentation-from-a-childs-point-of-view/
LOCATION:Community Coordinated Child Care (4-C)\, 908 S. 8th Street\, Suite 201\, Louisville\, KY\, 40203\, United States
CATEGORIES:All,Director,Infant/Toddler,Preschool,School Age
END:VEVENT
END:VCALENDAR