BEGIN:VCALENDAR
VERSION:2.0
PRODID:-//Community Coordinated Child Care - ECPv6.15.20//NONSGML v1.0//EN
CALSCALE:GREGORIAN
METHOD:PUBLISH
X-ORIGINAL-URL:https://www.4cforkids.org
X-WR-CALDESC:Events for Community Coordinated Child Care
REFRESH-INTERVAL;VALUE=DURATION:PT1H
X-Robots-Tag:noindex
X-PUBLISHED-TTL:PT1H
BEGIN:VTIMEZONE
TZID:America/Kentucky/Louisville
BEGIN:DAYLIGHT
TZOFFSETFROM:-0500
TZOFFSETTO:-0400
TZNAME:EDT
DTSTART:20190310T070000
END:DAYLIGHT
BEGIN:STANDARD
TZOFFSETFROM:-0400
TZOFFSETTO:-0500
TZNAME:EST
DTSTART:20191103T060000
END:STANDARD
BEGIN:DAYLIGHT
TZOFFSETFROM:-0500
TZOFFSETTO:-0400
TZNAME:EDT
DTSTART:20200308T070000
END:DAYLIGHT
BEGIN:STANDARD
TZOFFSETFROM:-0400
TZOFFSETTO:-0500
TZNAME:EST
DTSTART:20201101T060000
END:STANDARD
BEGIN:DAYLIGHT
TZOFFSETFROM:-0500
TZOFFSETTO:-0400
TZNAME:EDT
DTSTART:20210314T070000
END:DAYLIGHT
BEGIN:STANDARD
TZOFFSETFROM:-0400
TZOFFSETTO:-0500
TZNAME:EST
DTSTART:20211107T060000
END:STANDARD
END:VTIMEZONE
BEGIN:VEVENT
DTSTART;TZID=America/Kentucky/Louisville:20200505T110000
DTEND;TZID=America/Kentucky/Louisville:20200505T123000
DTSTAMP:20260422T095528
CREATED:20191205T194549Z
LAST-MODIFIED:20200429T192615Z
UID:10000759-1588676400-1588681800@www.4cforkids.org
SUMMARY:Turning Power Struggles into Power Sharing
DESCRIPTION:Notice: This is an online class. We are suspending our face to face classes until the current social distancing restrictions have been lifted. In order to continue to provide training opportunities\, we are offering a variety of distance learning opportunities.  Please make sure you include a valid email address when registering and that you have internet and email access at the time of the training. This training will be conducted via Zoom. \nDiscover that instead of viewing children’s willful behavior as “bad” and reacting in a way that overpowers the child\, to change your focus to view these willful behaviors as healthy positive signs of a child’s social emotional development. \nThis workshop is free thanks to the generous sponsorship by the Jefferson County Community Early Childhood Council through a grant from the Governor’s Office of Early Childhood. \nLevel 3 CDA 3\,8 CC 1\,4
URL:https://www.4cforkids.org/event/turning-power-struggles-into-power-sharing/
LOCATION:Community Coordinated Child Care (4-C)\, 908 S. 8th Street\, Suite 201\, Louisville\, KY\, 40203\, United States
CATEGORIES:All,Director,Infant/Toddler,Preschool,School Age
END:VEVENT
BEGIN:VEVENT
DTSTART;TZID=America/Kentucky/Louisville:20200511T100000
DTEND;TZID=America/Kentucky/Louisville:20200511T110000
DTSTAMP:20260422T095528
CREATED:20200504T162618Z
LAST-MODIFIED:20200506T195642Z
UID:10000683-1589191200-1589194800@www.4cforkids.org
SUMMARY:Mindfulness Session 4: Rituals and Routines
DESCRIPTION:Notice: This is an online class.  Please make sure you include a valid email address when registering and that you have internet and email access at the time of the training. This training will be conducted via Zoom. \nIn this session participants will read an article and participate an hour long discussion on rituals and routines are a part of our everyday life. Participants will learn the difference between the importance of routines and rituals and why there should be an equal balance of both. Please join in an hour long discussion how slowing down and noticing the details to create rituals and routines that will set the stage for secure relationships in the classroom. \nLevel 2  CDA 3 CC 4  Audience-All \nThis workshop is free thanks to the generous sponsorship by the Jefferson County Community Early Childhood Council through a grant from the Governor’s Office of Early Childhood.
URL:https://www.4cforkids.org/event/mindfulness-session-4-rituals-routines/
LOCATION:KY
CATEGORIES:All,Director,Infant/Toddler,Preschool,School Age
END:VEVENT
BEGIN:VEVENT
DTSTART;TZID=America/Kentucky/Louisville:20200513T100000
DTEND;TZID=America/Kentucky/Louisville:20200513T110000
DTSTAMP:20260422T095528
CREATED:20200504T183822Z
LAST-MODIFIED:20200506T192322Z
UID:10000686-1589364000-1589367600@www.4cforkids.org
SUMMARY:Building Resilience
DESCRIPTION:Notice: This is an online class.  Please make sure you include a valid email address when registering and that you have internet and email access at the time of the training. This training will be conducted via Zoom. \nParticipants will learn and discuss how building resilience is the combination of several protective factors\, and how the interaction between biology and environment can enhance our ability to cope with adversity and overcome threats to healthy development in children and adults. \nLevel 1 CDA 4 CC 4\, 6 \nThis workshop is free thanks to the generous sponsorship by the Jefferson County Community Early Childhood Council through a grant from the Governor’s Office of Early Childhood.
URL:https://www.4cforkids.org/event/building-resilience/
LOCATION:KY
CATEGORIES:All,Director,Infant/Toddler,Preschool,School Age
END:VEVENT
BEGIN:VEVENT
DTSTART;TZID=America/Kentucky/Louisville:20200514T120000
DTEND;TZID=America/Kentucky/Louisville:20200514T130000
DTSTAMP:20260422T095528
CREATED:20191205T200617Z
LAST-MODIFIED:20200506T194021Z
UID:10000760-1589457600-1589461200@www.4cforkids.org
SUMMARY:Directors Roundtable: Strengthening Business Practices - The Art of Coaching Teams
DESCRIPTION:Notice: This is an online class. We are suspending our face to face classes until the current social distancing restrictions have been lifted. In order to continue to provide training opportunities\, we are offering a variety of distance learning opportunities.  Please make sure you include a valid email address when registering and that you have internet and email access at the time of the training. This training will be conducted via Zoom. \nPlease join us for a discussion on the power of optimism during these difficult times. Explore how to refine your image of staff by focusing on your team’s success\, purpose and function. Learn how to manage an effective team meeting that builds healthy culture and high engagement using gratitude! \nThis workshop is free thanks to the generous sponsorship by the Jefferson County Community Early Childhood Council through a grant from the Governor’s Office of Early Childhood. \nLevel 3 CDA 5 CC 7 Audience-D
URL:https://www.4cforkids.org/event/directors-roundtable-strengthening-business-practices-art-of-coaching/
LOCATION:KY\, United States
CATEGORIES:Director
END:VEVENT
BEGIN:VEVENT
DTSTART;TZID=America/Kentucky/Louisville:20200518T100000
DTEND;TZID=America/Kentucky/Louisville:20200518T110000
DTSTAMP:20260422T095528
CREATED:20200504T164647Z
LAST-MODIFIED:20200504T185156Z
UID:10000685-1589796000-1589799600@www.4cforkids.org
SUMMARY:Mindfulness Session 5: Appreciation of Beauty Through Relationships
DESCRIPTION:Notice: This is an online class.  Please make sure you include a valid email address when registering and that you have internet and email access at the time of the training. This training will be conducted via Zoom. \nThis session will explore the art of building relationships our relationships with children has a direct impact on children’s behavior and development. Participants will engage in a reading assignment and an hour long discussion about the benefits of seeing the beauty of relationships and the ability children have to nurture them. The audience will learn how relationships are a foundation in development and upon completion participants will have deeper knowledge the impact that we have in the classroom. \nLevel 2  CDA 3 CC 1  Audience-All \nThis workshop is free thanks to the generous sponsorship by the Jefferson County Community Early Childhood Council through a grant from the Governor’s Office of Early Childhood.
URL:https://www.4cforkids.org/event/mindfulness-session-5-appreciation-of-beauty/
LOCATION:KY
CATEGORIES:All,Director,Infant/Toddler,Preschool,School Age
END:VEVENT
BEGIN:VEVENT
DTSTART;TZID=America/Kentucky/Louisville:20200519T163000
DTEND;TZID=America/Kentucky/Louisville:20200519T193000
DTSTAMP:20260422T095528
CREATED:20191205T203107Z
LAST-MODIFIED:20200506T194110Z
UID:10000761-1589905800-1589916600@www.4cforkids.org
SUMMARY:Connecting Loose Parts to Kindergarten Readiness
DESCRIPTION:Notice: We are suspending our face to face classes until the current social distancing restrictions have been lifted. In order to continue to provide training opportunities\, we are offering an Independent Learning Opportunity for this session. Please make sure you include a valid email address when registering. Your trainer will send you an Independent Learning Opportunity via email\, which you will complete on your own.  \nLearn how connecting loose parts to kindergarten readiness will allow children to engage their imagination and meet language benchmarks and standards through play as well as language and communication development. \nThis workshop is free thanks to the generous sponsorship by the Jefferson County Community Early Childhood Council through a grant from the Governor’s Office of Early Childhood. \nLevel 2 CDA 2 CC 4 Audience-All
URL:https://www.4cforkids.org/event/connecting-loose-parts-to-kindergarten-readiness/
LOCATION:KY
CATEGORIES:All,Director,Infant/Toddler,Preschool,School Age
END:VEVENT
BEGIN:VEVENT
DTSTART;TZID=America/Kentucky/Louisville:20200520T100000
DTEND;TZID=America/Kentucky/Louisville:20200520T110000
DTSTAMP:20260422T095528
CREATED:20200504T192639Z
LAST-MODIFIED:20200504T193333Z
UID:10000689-1589968800-1589972400@www.4cforkids.org
SUMMARY:Playing Our Way to Health and Wellness!
DESCRIPTION:Notice: This is an online class.  Please make sure you include a valid email address when registering and that you have internet and email access at the time of the training. This training will be conducted via Zoom. \nPlay is an important component of human development. Research has shown that play is essential to our health and well-being. Discover the value of play and the significant benefits that play adds to our health and wellness. By the end of session\, you will have gained greater knowledge about the value of play and will have ideas\, strategies\, and approaches to enhance play experiences during these shelter-at-home days. \nLevel 3  CDA 2  Audience-Infant/Toddler\, Preschool \nThis workshop is free thanks to the generous sponsorship by the Jefferson County Community Early Childhood Council through a grant from the Governor’s Office of Early Childhood.
URL:https://www.4cforkids.org/event/playing-our-way-to-health-and-wellness/
LOCATION:KY
CATEGORIES:All,Director,Infant/Toddler,Preschool,School Age
END:VEVENT
BEGIN:VEVENT
DTSTART;TZID=America/Kentucky/Louisville:20200527T100000
DTEND;TZID=America/Kentucky/Louisville:20200527T110000
DTSTAMP:20260422T095528
CREATED:20200504T195749Z
LAST-MODIFIED:20200504T195749Z
UID:10000691-1590573600-1590577200@www.4cforkids.org
SUMMARY:The Courage to Come Back: The Impact of Coronavirus Anxiety on Young Children & Support Strategies for When Centers Re-open
DESCRIPTION:Notice: This is an online class.  Please make sure you include a valid email address when registering and that you have internet and email access at the time of the training. This training will be conducted via Zoom. \nHow does fear and anxiety manifest in young children’s behavior?  How will children adapt to the return to child care?  Will the coronavirus isolation have a lasting impact as a traumatic experience?  Join us through Zoom to discuss these questions and prepare for our “new normal” when centers are allowed to re-open.  Learn strategies to support children who may exhibit signs of anxiety and regression.  And learn some self-care strategies for care-givers\, understanding that it will take a little courage for all of us to “come back” from this tragedy. \nLevel 1  CDA 3  CC 1  Audience-All \nThis workshop is free thanks to the generous sponsorship by the Jefferson County Community Early Childhood Council through a grant from the Governor’s Office of Early Childhood.
URL:https://www.4cforkids.org/event/the-courage-to-come-back/
LOCATION:KY
CATEGORIES:All,Director,Infant/Toddler,Preschool,School Age
END:VEVENT
END:VCALENDAR