BEGIN:VCALENDAR
VERSION:2.0
PRODID:-//Community Coordinated Child Care - ECPv6.15.20//NONSGML v1.0//EN
CALSCALE:GREGORIAN
METHOD:PUBLISH
X-ORIGINAL-URL:https://www.4cforkids.org
X-WR-CALDESC:Events for Community Coordinated Child Care
REFRESH-INTERVAL;VALUE=DURATION:PT1H
X-Robots-Tag:noindex
X-PUBLISHED-TTL:PT1H
BEGIN:VTIMEZONE
TZID:America/Kentucky/Louisville
BEGIN:DAYLIGHT
TZOFFSETFROM:-0500
TZOFFSETTO:-0400
TZNAME:EDT
DTSTART:20190310T070000
END:DAYLIGHT
BEGIN:STANDARD
TZOFFSETFROM:-0400
TZOFFSETTO:-0500
TZNAME:EST
DTSTART:20191103T060000
END:STANDARD
BEGIN:DAYLIGHT
TZOFFSETFROM:-0500
TZOFFSETTO:-0400
TZNAME:EDT
DTSTART:20200308T070000
END:DAYLIGHT
BEGIN:STANDARD
TZOFFSETFROM:-0400
TZOFFSETTO:-0500
TZNAME:EST
DTSTART:20201101T060000
END:STANDARD
BEGIN:DAYLIGHT
TZOFFSETFROM:-0500
TZOFFSETTO:-0400
TZNAME:EDT
DTSTART:20210314T070000
END:DAYLIGHT
BEGIN:STANDARD
TZOFFSETFROM:-0400
TZOFFSETTO:-0500
TZNAME:EST
DTSTART:20211107T060000
END:STANDARD
END:VTIMEZONE
BEGIN:VEVENT
DTSTART;TZID=America/Kentucky/Louisville:20200901T173000
DTEND;TZID=America/Kentucky/Louisville:20200901T193000
DTSTAMP:20260422T045456
CREATED:20200821T214553Z
LAST-MODIFIED:20200827T182221Z
UID:10000831-1598981400-1598988600@www.4cforkids.org
SUMMARY:Playing to Learn and Learning from Play! Infants and Toddlers at Play!
DESCRIPTION:Please join us for a 2 hour session on the power of play. Play is an important component of human development. Research has shown that play is essential to our health and well-being. Discover the value of play and the significant benefits that play adds to our health and wellness. Learn about the rapid brain development occurring in the first three years of life and how play supports healthy brain development. During the session we will discuss the developmental milestones that occur in infancy and through the toddler years (specifically birth to three years old). By the end of session\, you will have gained greater knowledge about the value of play and will have ideas\, strategies\, and approaches to enhance play experiences for babies and toddlers. \nNotice: This is an online class.  Please make sure you include a valid email address when registering and that you have internet and email access at the time of the training. This training will be conducted via Zoom\, and you will be required to participate via video and audio through a computer\, phone\, or tablet. \nLevel 2   CDA 8    CC 1   Audience-Infant/Toddler \n2 Credit Hours
URL:https://www.4cforkids.org/event/playing-to-learn-and-learning-from-play-infants-and-toddlers-are-play/
LOCATION:KY
CATEGORIES:Infant/Toddler
END:VEVENT
BEGIN:VEVENT
DTSTART;TZID=America/Kentucky/Louisville:20200910T120000
DTEND;TZID=America/Kentucky/Louisville:20200910T140000
DTSTAMP:20260422T045456
CREATED:20200821T213021Z
LAST-MODIFIED:20200821T213021Z
UID:10000828-1599739200-1599746400@www.4cforkids.org
SUMMARY:Director’s Roundtable- Creating Equitable Program Policies
DESCRIPTION:Discuss the meaning and importance of equity in program policies. Learn tips for reviewing and updating your current policies to ensure they reflect equity and inclusion for staff\, families and children. \nThis workshop is free thanks to the generous sponsorship by the Jefferson County Community Early Childhood Council through a grant from the Governor’s Office of Early Childhood. \nNotice: This is an online class.  Please make sure you include a valid email address when registering and that you have internet and email access at the time of the training. This training will be conducted via Zoom\, and you will be required to participate via video and audio through a computer\, phone\, or tablet. \nLevel 3   CDA 5    CC 7    Audience-Directors \n2 Credit Hours
URL:https://www.4cforkids.org/event/directors-roundtable-creating-equitable-program-policies/
LOCATION:KY
CATEGORIES:Director
END:VEVENT
BEGIN:VEVENT
DTSTART;TZID=America/Kentucky/Louisville:20200912T100000
DTEND;TZID=America/Kentucky/Louisville:20200919T120000
DTSTAMP:20260422T045456
CREATED:20200821T220305Z
LAST-MODIFIED:20200821T220305Z
UID:10000832-1599904800-1600516800@www.4cforkids.org
SUMMARY:Orientation
DESCRIPTION:This six hour professional development workshop provides overviews of child abuse/neglect\, developmentally appropriate practices\, and health & safety practices. It is required of all new child care staff within the first 90 days of hire. This class will be taught in two 2-hour zoom classes with homework in between for a total of 6 hours of content. You must be able to participate in both classes (Saturday\, September 12 10:00 AM – 12:00 PM and Saturday\, September 19 10:00 AM – 12:00 PM) and complete the required assignment to receive credit for this class. \nNotice: This is an online class.  Please make sure you include a valid email address when registering and that you have internet and email access at the time of the training. This training will be conducted via Zoom\, and you will be required to participate via video and audio through a computer\, phone\, or tablet. \nLevel 1 CDA 1\,2\,3\,8 CC 1\,2\,4 Audience-All \n6 Credit Hours
URL:https://www.4cforkids.org/event/orientation-9-12-20/
LOCATION:KY
CATEGORIES:All,Director,Infant/Toddler,Preschool,School Age
END:VEVENT
BEGIN:VEVENT
DTSTART;TZID=America/Kentucky/Louisville:20200915T173000
DTEND;TZID=America/Kentucky/Louisville:20200915T193000
DTSTAMP:20260422T045456
CREATED:20200821T213204Z
LAST-MODIFIED:20200826T183432Z
UID:10000830-1600191000-1600198200@www.4cforkids.org
SUMMARY:Achieving 21st Century Skills with Preschool Children! Creating Classrooms of Collaboration Using a Project-Based Approach!
DESCRIPTION:Critical thinking\, creativity\, collaboration\, communication and emotional literacy are the skills children need to succeed in our classrooms and in the future! Please join us for a discussion on how project-based learning can support children in gaining 21 st century skills. During the session we will explore how open-ended materials and loose parts can foster a culture of creativity and wonder within your classroom. In addition we will explore the value of communication and learning\, specifically using documentation as a tool to advance the teacher’s thinking and the\nthinking of the children involved in the project. Lastly\, we will learn how open-ended and child-centered projects build social-emotional competency. \nThis workshop is free thanks to the generous sponsorship by the Jefferson County Community Early Childhood Council through a grant from the Governor’s Office of Early Childhood. \nNotice: This is an online class.  Please make sure you include a valid email address when registering and that you have internet and email access at the time of the training. This training will be conducted via Zoom\, and you will be required to participate via video and audio through a computer\, phone\, or tablet. \nLevel 3   CDA 2    CC 4    Audience-Preschool \n2 Credit Hours
URL:https://www.4cforkids.org/event/achieving-21st-century-skills-with-preschool-children-creating-classrooms-of-collaboration-using-a-project-based-approach/
LOCATION:KY
CATEGORIES:Preschool
END:VEVENT
BEGIN:VEVENT
DTSTART;TZID=America/Kentucky/Louisville:20200921T183000
DTEND;TZID=America/Kentucky/Louisville:20200921T193000
DTSTAMP:20260422T045456
CREATED:20200821T223618Z
LAST-MODIFIED:20200827T182344Z
UID:10000833-1600713000-1600716600@www.4cforkids.org
SUMMARY:How to Support Families
DESCRIPTION:Explore and practice strength-based strategies to build supportive relationships with families. Maintaining those relationships during a pandemic when teachers and families may not have face to face contact\, poses unique challenges but is not impossible. \nNotice: This is an online class.  Please make sure you include a valid email address when registering and that you have internet and email access at the time of the training. This training will be conducted via Zoom\, and you will be required to participate via video and audio through a computer\, phone\, or tablet. \nLevel 2   CDA 4    CC 6    Audience-All \n2 Credit Hours
URL:https://www.4cforkids.org/event/how-to-support-families/
LOCATION:KY
CATEGORIES:All,Director,Infant/Toddler,Preschool,School Age
END:VEVENT
BEGIN:VEVENT
DTSTART;TZID=America/Kentucky/Louisville:20200924T163000
DTEND;TZID=America/Kentucky/Louisville:20200924T183000
DTSTAMP:20260422T045456
CREATED:20200821T213128Z
LAST-MODIFIED:20200916T145142Z
UID:10000829-1600965000-1600972200@www.4cforkids.org
SUMMARY:Developing Thinking Skills in Young Children
DESCRIPTION:Discuss\, learn and reflect how to support children in developing critical thinking skills\, such as problem solving. The ability to think critically is an essential skill and it starts to develop in very young children when they have many opportunities to play\, ask open-ended questions and develop their own hypotheses and solutions. Learn practical strategies to use in their classrooms. \nNotice: This is an online class.  Please make sure you include a valid email address when registering and that you have internet and email access at the time of the training. This training will be conducted via Zoom\, and you will be required to participate via video and audio through a computer\, phone\, or tablet. \nLevel 2   CDA 2    CC 1    Audience-All \n3 Credit Hours
URL:https://www.4cforkids.org/event/developing-thinking-skills-in-young-children/
LOCATION:KY
CATEGORIES:All
END:VEVENT
BEGIN:VEVENT
DTSTART;TZID=America/Kentucky/Louisville:20200929T183000
DTEND;TZID=America/Kentucky/Louisville:20200929T193000
DTSTAMP:20260422T045456
CREATED:20200821T231124Z
LAST-MODIFIED:20200922T142648Z
UID:10000834-1601404200-1601407800@www.4cforkids.org
SUMMARY:No Internet Connection Needed
DESCRIPTION:Gain a better understanding of why disconnecting children from screen time is valuable. Participants will be required before the class begins to read an article with reflective questions and then discuss it during our time together. \nNotice: This is an online class.  Please make sure you include a valid email address when registering and that you have internet and email access at the time of the training. This training will be conducted via Zoom\, and you will be required to participate via video and audio through a computer\, phone\, or tablet. \nLevel 2   CDA 2    CC 1    Audience-All \n2 Credit Hours
URL:https://www.4cforkids.org/event/no-internet-connection-needed/
LOCATION:KY
CATEGORIES:All,Director,Infant/Toddler,Preschool,School Age
END:VEVENT
END:VCALENDAR