BEGIN:VCALENDAR
VERSION:2.0
PRODID:-//Community Coordinated Child Care - ECPv6.15.20//NONSGML v1.0//EN
CALSCALE:GREGORIAN
METHOD:PUBLISH
X-ORIGINAL-URL:https://www.4cforkids.org
X-WR-CALDESC:Events for Community Coordinated Child Care
REFRESH-INTERVAL;VALUE=DURATION:PT1H
X-Robots-Tag:noindex
X-PUBLISHED-TTL:PT1H
BEGIN:VTIMEZONE
TZID:America/Kentucky/Louisville
BEGIN:DAYLIGHT
TZOFFSETFROM:-0500
TZOFFSETTO:-0400
TZNAME:EDT
DTSTART:20190310T070000
END:DAYLIGHT
BEGIN:STANDARD
TZOFFSETFROM:-0400
TZOFFSETTO:-0500
TZNAME:EST
DTSTART:20191103T060000
END:STANDARD
BEGIN:DAYLIGHT
TZOFFSETFROM:-0500
TZOFFSETTO:-0400
TZNAME:EDT
DTSTART:20200308T070000
END:DAYLIGHT
BEGIN:STANDARD
TZOFFSETFROM:-0400
TZOFFSETTO:-0500
TZNAME:EST
DTSTART:20201101T060000
END:STANDARD
BEGIN:DAYLIGHT
TZOFFSETFROM:-0500
TZOFFSETTO:-0400
TZNAME:EDT
DTSTART:20210314T070000
END:DAYLIGHT
BEGIN:STANDARD
TZOFFSETFROM:-0400
TZOFFSETTO:-0500
TZNAME:EST
DTSTART:20211107T060000
END:STANDARD
END:VTIMEZONE
BEGIN:VEVENT
DTSTART;TZID=America/Kentucky/Louisville:20201006T163000
DTEND;TZID=America/Kentucky/Louisville:20201006T183000
DTSTAMP:20260420T033749
CREATED:20200925T164551Z
LAST-MODIFIED:20200925T164551Z
UID:10000852-1602001800-1602009000@www.4cforkids.org
SUMMARY:Strengthening Families
DESCRIPTION:Want to help families and not sure of where to start? Start here by learning about protective factors through the Strengthening Families framework that can help alleviate stress for families. Participants will join a 2-hour discussion through Zoom to discuss how assisting and supporting families can strengthen family relationships. The discussion will also lend itself to what deciding what changes can happen in our everyday practices to support families. \nPre-work will be required to earn the full credit hours that consists of a self-assessment to be discussed during the class. \nNotice: This is an online class.  Please make sure you include a valid email address when registering and that you have internet and email access at the time of the training. This training will be conducted via Zoom\, and you will be required to participate via video and audio through a computer\, phone\, or tablet. \nLevel 2   CDA 3\, 4    CC 1\, 6    Audience-All \n3 Credit Hours \nThis professional development opportunity is brought to you free of charge thanks to the generous support of the Kosair Charities Face It Movement
URL:https://www.4cforkids.org/event/strengthening-families/
LOCATION:KY
CATEGORIES:All,Director,Infant/Toddler,Preschool,School Age
END:VEVENT
BEGIN:VEVENT
DTSTART;TZID=America/Kentucky/Louisville:20201007T100000
DTEND;TZID=America/Kentucky/Louisville:20201007T120000
DTSTAMP:20260420T033749
CREATED:20200925T154254Z
LAST-MODIFIED:20200928T195024Z
UID:10000848-1602064800-1602072000@www.4cforkids.org
SUMMARY:Pediatric Abusive Head Trauma: presented by Face It
DESCRIPTION:Pediatric abusive head trauma (PAHT)\, or shaken baby syndrome\, is a severe form of child abuse that most often involves infants. In this FREE virtual Pediatric Abusive Head Trauma Prevention & Recognition training\, participants will learn the early signs of maltreatment and the various injuries and conditions that may result from vigorous shaking\, slamming\, or impacting the head of an infant or young child. They will also be provided tools for dealing with a crying infant and ways to share information with parents to prevent abuse from occurring.\nTraining objectives are to review the statistics of abusive head trauma; to define and describe abusive head trauma and its associated injuries; to discuss risk factors and prevention\, and to understand the outcomes for victims.\n\nIn partnership with the Kosair Charities Face It Movement\, 4-C is co-hosting this free virtual training. Registration and training credit will be provided through Face It.\nClick here to register.
URL:https://www.4cforkids.org/event/pediatric-abusive-head-trauma-presented-by-face-it/
LOCATION:KY
END:VEVENT
BEGIN:VEVENT
DTSTART;TZID=America/Kentucky/Louisville:20201008T120000
DTEND;TZID=America/Kentucky/Louisville:20201008T140000
DTSTAMP:20260420T033749
CREATED:20200928T204048Z
LAST-MODIFIED:20201008T164918Z
UID:10000854-1602158400-1602165600@www.4cforkids.org
SUMMARY:Directors Roundtable
DESCRIPTION:We are in the middle of some unprecedented times in so many ways! 2020 has sure thrown us for a loop. As Directors\, we have had to make decisions we have never thought about and care for people in ways we never dreamed. But have we taken care of ourselves? Join us at this Director’s Roundtable to discover the importance of self-care\, develop your own customized self-care plan and determine the steps for putting your plan into action. This roundtable format will allow us to participate in rich discussions and develop relationships that will help us all feel supported. Director’s Roundtables in October\, November and December will focus on different aspects of self care and your self care plan. You will receive the greatest benefit by attending all three but it is not required. \nThis workshop is free thanks to the generous sponsorship by the Jefferson County Community Early Childhood Council through a grant from the Governor’s Office of Early Childhood. \nNotice: This is an online class.  Please make sure you include a valid email address when registering and that you have internet and email access at the time of the training. This training will be conducted via Zoom\, and you will be required to participate via video and audio through a computer\, phone\, or tablet. \nAudience-Directors \n2 Credit Hours
URL:https://www.4cforkids.org/event/directors-roundtable-10-8-20/
LOCATION:KY
CATEGORIES:Director
END:VEVENT
BEGIN:VEVENT
DTSTART;TZID=America/Kentucky/Louisville:20201010T100000
DTEND;TZID=America/Kentucky/Louisville:20201017T120000
DTSTAMP:20260420T033749
CREATED:20200924T170328Z
LAST-MODIFIED:20200924T170328Z
UID:10000843-1602324000-1602936000@www.4cforkids.org
SUMMARY:Orientation
DESCRIPTION:This six hour professional development workshop provides overviews of child abuse/neglect\, developmentally appropriate practices\, and health & safety practices. It is required of all new child care staff within the first 90 days of hire. This class will be taught in two 2-hour zoom classes with homework in between for a total of 6 hours of content. You must be able to participate in both classes (Saturday\, October 10 10:00 AM – 12:00 PM and Saturday\, October 17 10:00 AM – 12:00 PM) and complete the required assignment to receive credit for this class. \nNotice: This is an online class.  Please make sure you include a valid email address when registering and that you have internet and email access at the time of the training. This training will be conducted via Zoom\, and you will be required to participate via video and audio through a computer\, phone\, or tablet. \nLevel 1 CDA 1\,2\,3\,8 CC 1\,2\,4 Audience-All \n6 Credit Hours
URL:https://www.4cforkids.org/event/orientation-9-12-20-2/
LOCATION:KY
CATEGORIES:All,Director,Infant/Toddler,Preschool,School Age
END:VEVENT
BEGIN:VEVENT
DTSTART;TZID=America/Kentucky/Louisville:20201013T163000
DTEND;TZID=America/Kentucky/Louisville:20201013T180000
DTSTAMP:20260420T033749
CREATED:20200925T143210Z
LAST-MODIFIED:20200925T143210Z
UID:10000845-1602606600-1602612000@www.4cforkids.org
SUMMARY:Teaching with Respect
DESCRIPTION:Using group discussion\, role play and reflective questions\, participants will learn what teaching with respect means\, looks like and why it is important. Teaching with respect\, in part\, requires knowing child growth and development and understanding how that is connected to having realistic expectations for children. Additionally\, participants will practice strategies such as using encouragement instead of praise\, to implement teaching with respect. \nNotice: This is an online class.  Please make sure you include a valid email address when registering and that you have internet and email access at the time of the training. This training will be conducted via Zoom\, and you will be required to participate via video and audio through a computer\, phone\, or tablet. \nLevel 2   CDA 3    CC 1    Audience-All \n2 Credit Hours
URL:https://www.4cforkids.org/event/teaching-with-respect/
LOCATION:KY
CATEGORIES:All,Director,Infant/Toddler,Preschool,School Age
END:VEVENT
BEGIN:VEVENT
DTSTART;TZID=America/Kentucky/Louisville:20201014T130000
DTEND;TZID=America/Kentucky/Louisville:20201014T150000
DTSTAMP:20260420T033749
CREATED:20200924T000902Z
LAST-MODIFIED:20200924T124217Z
UID:10000839-1602680400-1602687600@www.4cforkids.org
SUMMARY:That’s a Different Point of View!
DESCRIPTION:During this session participants will discover the benefits of looking at different points of view to gain multiple perspectives. Understanding where different perspectives comes from is a huge gain when considering lesson planning. How we see children also affects in what experiences we offer to children. \nNotice: This is an online class.  Please make sure you include a valid email address when registering and that you have internet and email access at the time of the training. This training will be conducted via Zoom\, and you will be required to participate via video and audio through a computer\, phone\, or tablet. \nLevel 2   CDA 7    CC 4    Audience-All \n2 Credit Hours
URL:https://www.4cforkids.org/event/thats-a-different-point-of-view/
LOCATION:KY
CATEGORIES:All,Director,Infant/Toddler,Preschool,School Age
END:VEVENT
BEGIN:VEVENT
DTSTART;TZID=America/Kentucky/Louisville:20201014T183000
DTEND;TZID=America/Kentucky/Louisville:20201014T193000
DTSTAMP:20260420T033749
CREATED:20200925T161724Z
LAST-MODIFIED:20200925T163552Z
UID:10000850-1602700200-1602703800@www.4cforkids.org
SUMMARY:Beyond Measure: Film Screening and Discussion
DESCRIPTION:In Beyond Measure\, we set out to challenge the assumptions of our current education story. Rather than ask why our students fail to measure up\, this film asks us to reconsider the greater purpose of education. What if our education system valued personal growth over test scores? Put inquiry over mimicry? Encouraged passion over rankings? What if we decided that the higher aim of school was not the transmission of facts or formulas\, but the transformation of every student? And what if this paradigm-shift was driven from the ground up? By students\, parents\, and educators? By all of us? In Beyond Measure\, we find a revolution brewing in public schools across the country. From rural Kentucky to New York City\, schools that are breaking away from an outmoded\, test-driven education are shaping a new vision for our classrooms. These are schools that see critical thinking\, communication\, exploration\, experimentation\, collaboration\, and creativity as the key to good education. And they are dramatically improving  outcomes for children of all backgrounds. They are schools where practically every\nstudent graduates and goes on to finish college. \nParticipants will register through Eventbrite. You will be sent a link to screen the film\, Beyond Measure. You must view the film between October 7 and 14 and participate in the follow-up session on October 14\, 2020 to receive 2.5 hours of credit. This is a 2-part class. Everyone who registers for the film screening will also be sent a Zoom link to the follow up discussion on October 14 from 6:30-7:30PM. The cost is free. \nClick here to register for the film screening and discussion. \nLevel 2   CDA 6    CC 6    Audience-All \n2.5 Credit Hours
URL:https://www.4cforkids.org/event/beyond-measure-film-screening-and-discussion/
LOCATION:KY
CATEGORIES:All,Director,Infant/Toddler,Preschool,School Age
END:VEVENT
BEGIN:VEVENT
DTSTART;TZID=America/Kentucky/Louisville:20201022T173000
DTEND;TZID=America/Kentucky/Louisville:20201022T193000
DTSTAMP:20260420T033749
CREATED:20200923T232628Z
LAST-MODIFIED:20200923T232628Z
UID:10000837-1603387800-1603395000@www.4cforkids.org
SUMMARY:Child Growth and Development 101 (for infants and toddlers)
DESCRIPTION:Let’s get back to the basics of research-based child development and practice identifying developmental skills in children. Is what you are expecting from your children developmentally appropriate? Please join us for a two hour discussion about the science\, research and typical development of children from birth to age three. By the end of the session\, each participant will have greater knowledge about the four domains of learning: social-emotional\, physical\, cognitive and language. \nNotice: This is an online class.  Please make sure you include a valid email address when registering and that you have internet and email access at the time of the training. This training will be conducted via Zoom\, and you will be required to participate via video and audio through a computer\, phone\, or tablet. \nLevel 3   CDA 8    CC 1    Audience-Infant/Toddler \n2 Credit Hours
URL:https://www.4cforkids.org/event/child-growth-and-development-101-for-infants-and-toddlers/
LOCATION:KY
CATEGORIES:Infant/Toddler
END:VEVENT
BEGIN:VEVENT
DTSTART;TZID=America/Kentucky/Louisville:20201024T090000
DTEND;TZID=America/Kentucky/Louisville:20201024T110000
DTSTAMP:20260420T033749
CREATED:20200903T184519Z
LAST-MODIFIED:20201019T173125Z
UID:10000835-1603530000-1603537200@www.4cforkids.org
SUMMARY:Early Childhood Outdoor Science Explorations
DESCRIPTION:Discover cool science props that can be used outdoors! Create a resource list and brainstorm about your own ideas of what you can take back to your center. \nNotice: This is an online class.  Please make sure you include a valid email address when registering and that you have internet and email access at the time of the training. This training will be conducted via Zoom\, and you will be required to participate via video and audio through a computer\, phone\, or tablet. \nLevel 2   CDA 2    CC 4    Audience-All \n2 Credit Hours
URL:https://www.4cforkids.org/event/early-childhood-outdoor-science-explorations/
LOCATION:Community Coordinated Child Care (4-C)\, 908 S. 8th Street\, Suite 201\, Louisville\, KY\, 40203\, United States
CATEGORIES:All,Director,Infant/Toddler,Preschool,School Age
END:VEVENT
END:VCALENDAR