BEGIN:VCALENDAR
VERSION:2.0
PRODID:-//Community Coordinated Child Care - ECPv6.15.20//NONSGML v1.0//EN
CALSCALE:GREGORIAN
METHOD:PUBLISH
X-ORIGINAL-URL:https://www.4cforkids.org
X-WR-CALDESC:Events for Community Coordinated Child Care
REFRESH-INTERVAL;VALUE=DURATION:PT1H
X-Robots-Tag:noindex
X-PUBLISHED-TTL:PT1H
BEGIN:VTIMEZONE
TZID:America/Kentucky/Louisville
BEGIN:DAYLIGHT
TZOFFSETFROM:-0500
TZOFFSETTO:-0400
TZNAME:EDT
DTSTART:20190310T070000
END:DAYLIGHT
BEGIN:STANDARD
TZOFFSETFROM:-0400
TZOFFSETTO:-0500
TZNAME:EST
DTSTART:20191103T060000
END:STANDARD
BEGIN:DAYLIGHT
TZOFFSETFROM:-0500
TZOFFSETTO:-0400
TZNAME:EDT
DTSTART:20200308T070000
END:DAYLIGHT
BEGIN:STANDARD
TZOFFSETFROM:-0400
TZOFFSETTO:-0500
TZNAME:EST
DTSTART:20201101T060000
END:STANDARD
BEGIN:DAYLIGHT
TZOFFSETFROM:-0500
TZOFFSETTO:-0400
TZNAME:EDT
DTSTART:20210314T070000
END:DAYLIGHT
BEGIN:STANDARD
TZOFFSETFROM:-0400
TZOFFSETTO:-0500
TZNAME:EST
DTSTART:20211107T060000
END:STANDARD
END:VTIMEZONE
BEGIN:VEVENT
DTSTART;TZID=America/Kentucky/Louisville:20201105T173000
DTEND;TZID=America/Kentucky/Louisville:20201105T193000
DTSTAMP:20260420T022319
CREATED:20200923T212008Z
LAST-MODIFIED:20201102T163655Z
UID:10000836-1604597400-1604604600@www.4cforkids.org
SUMMARY:Playing to learn and learning from play! Preschoolers at Play!
DESCRIPTION:Please join us for a 2 hour session on the power of play. Play is an important component of human development. Research has shown that play is essential to our health and well-being. Discover the value of play and the significant benefits that play adds to our health and wellness. Learn about the rapid brain development that occurs in the first three years of life and how play supports healthy brain development. During the session we will discuss the developmental milestones that occur between the ages of three to five years old. By the end of session\, you will have gained greater knowledge about the value of play and will have ideas\, strategies\, and approaches to enhance play experiences for preschool children. \nNotice: This is an online class.  Please make sure you include a valid email address when registering and that you have internet and email access at the time of the training. This training will be conducted via Zoom\, and you will be required to participate via video and audio through a computer\, phone\, or tablet. \nLevel 3   CDA 8    CC 1    Audience-All \n2 Credit Hours
URL:https://www.4cforkids.org/event/playing-to-learn-and-learning-from-play-preschoolers-at-play/
LOCATION:KY
CATEGORIES:Preschool
END:VEVENT
BEGIN:VEVENT
DTSTART;TZID=America/Kentucky/Louisville:20201107T100000
DTEND;TZID=America/Kentucky/Louisville:20201107T113000
DTSTAMP:20260420T022319
CREATED:20201001T164424Z
LAST-MODIFIED:20201012T182222Z
UID:10000856-1604743200-1604748600@www.4cforkids.org
SUMMARY:Tools to Promote and Support Your Child Care Program
DESCRIPTION:Discover new tools to help your child care program thrive. Learn how to access and use the Kentucky Shared Services platform\, which is specifically designed for child care providers\, including tools for marketing\, free job postings\, family resources\, and templates for policies\, handbooks\, communications…and more! \nThis free workshop is sponsored by The Kosair Charities Face It Movement. \nNotice: This is an online class.  Please make sure you include a valid email address when registering and that you have internet and email access at the time of the training. This training will be conducted via Zoom\, and you will be required to participate via video and audio through a computer\, phone\, or tablet. \nCredit Hours 1.5 \nLevel 3 CDA 5 CC 7 Audience-D
URL:https://www.4cforkids.org/event/tools-to-promote-and-support-your-child-care-program-11-7-20/
LOCATION:KY
CATEGORIES:Director
END:VEVENT
BEGIN:VEVENT
DTSTART;TZID=America/Kentucky/Louisville:20201111T170000
DTEND;TZID=America/Kentucky/Louisville:20201111T190000
DTSTAMP:20260420T022319
CREATED:20200923T234206Z
LAST-MODIFIED:20201027T225441Z
UID:10000838-1605114000-1605121200@www.4cforkids.org
SUMMARY:Supporting School Age Children
DESCRIPTION:This class is designed to help understand school age behavior and how as an adult you can support behaviors that will lead to better outcomes for the child. In this session we will discover the elements that make school agers so unique in their development. \nNotice: This is an online class.  Please make sure you include a valid email address when registering and that you have internet and email access at the time of the training. This training will be conducted via Zoom\, and you will be required to participate via video and audio through a computer\, phone\, or tablet. \nLevel 3   CDA 3    CC 1    Audience-School Age \n2 Credit Hours
URL:https://www.4cforkids.org/event/supporting-school-age-children/
LOCATION:KY
CATEGORIES:School Age
END:VEVENT
BEGIN:VEVENT
DTSTART;TZID=America/Kentucky/Louisville:20201112T123000
DTEND;TZID=America/Kentucky/Louisville:20201112T143000
DTSTAMP:20260420T022319
CREATED:20201026T185401Z
LAST-MODIFIED:20201026T185401Z
UID:10000858-1605184200-1605191400@www.4cforkids.org
SUMMARY:Directors Roundtable - Self-Care for Early Childhood Professionals
DESCRIPTION:We are in the middle of some unprecedented times in so many ways! 2020 has sure thrown us for a loop. As directors\, we have had to make decisions we have never thought about and care for people in ways we never dreamed. But have we taken care of ourselves? Join us at this Directors Roundtable to discover the importance of self-care\, develop your own customized self-care plan and determine the steps for putting your plan into action. This roundtable format will allow us to participate in rich discussions and develop relationships that will help us all feel supported. Directors Roundtables in November and December will focus on different aspects of self care and your self-care plan. \nThis workshop is free thanks to the generous sponsorship by the Jefferson County Community Early Childhood Council through a grant from the Governor’s Office of Early Childhood. \nNotice: This is an online class.  Please make sure you include a valid email address when registering and that you have internet and email access at the time of the training. This training will be conducted via Zoom\, and you will be required to participate via video and audio through a computer\, phone\, or tablet. \nLevel 3   CDA 6    CC 3    Audience-Directors \n2 Credit Hours
URL:https://www.4cforkids.org/event/directors-roundtable-self-care-for-early-childhood-professionals/
LOCATION:KY
CATEGORIES:Director
END:VEVENT
BEGIN:VEVENT
DTSTART;TZID=America/Kentucky/Louisville:20201114T100000
DTEND;TZID=America/Kentucky/Louisville:20201114T113000
DTSTAMP:20260420T022319
CREATED:20201026T224817Z
LAST-MODIFIED:20201110T155929Z
UID:10000859-1605348000-1605353400@www.4cforkids.org
SUMMARY:The Struggle is Real!
DESCRIPTION:Learn about developmental milestones around social and emotional development. Through a pre-reading text assignment and short videos in the training\, gain skills to recognize what a child is telling us and to themselves. Understanding the best way to support the child will also build positive relationships with adults and peers in their life. \nNotice: This is an online class.  Please make sure you include a valid email address when registering and that you have internet and email access at the time of the training. This training will be conducted via Zoom\, and you will be required to participate via video and audio through a computer\, phone\, or tablet. \nLevel 2   CDA 3    CC 1    Audience-All \n2 Credit Hours
URL:https://www.4cforkids.org/event/the-struggle-is-real/
LOCATION:KY
CATEGORIES:All,Director,Infant/Toddler,Preschool
END:VEVENT
BEGIN:VEVENT
DTSTART;TZID=America/Kentucky/Louisville:20201117T173000
DTEND;TZID=America/Kentucky/Louisville:20201117T190000
DTSTAMP:20260420T022319
CREATED:20201027T193823Z
LAST-MODIFIED:20201106T144950Z
UID:10000860-1605634200-1605639600@www.4cforkids.org
SUMMARY:Engaging Children in Literature
DESCRIPTION:Explore\, discuss and learn about the various ways you can engage young children in literature and instill a love and appreciation for reading. Additionally\, participants will engage in practical strategies to support young children in building their language skills and how to use literature everywhere. \nNotice: This is an online class.  Please make sure you include a valid email address when registering and that you have internet and email access at the time of the training. This training will be conducted via Zoom\, and you will be required to participate via video and audio through a computer\, phone\, or tablet. \nLevel 2   CDA 2    CC 1    Audience-All \n1.5 Credit Hours
URL:https://www.4cforkids.org/event/engaging-children-in-literature/
LOCATION:KY
CATEGORIES:All
END:VEVENT
END:VCALENDAR