BEGIN:VCALENDAR
VERSION:2.0
PRODID:-//Community Coordinated Child Care - ECPv6.15.20//NONSGML v1.0//EN
CALSCALE:GREGORIAN
METHOD:PUBLISH
X-WR-CALNAME:Community Coordinated Child Care
X-ORIGINAL-URL:https://www.4cforkids.org
X-WR-CALDESC:Events for Community Coordinated Child Care
REFRESH-INTERVAL;VALUE=DURATION:PT1H
X-Robots-Tag:noindex
X-PUBLISHED-TTL:PT1H
BEGIN:VTIMEZONE
TZID:America/Kentucky/Louisville
BEGIN:DAYLIGHT
TZOFFSETFROM:-0500
TZOFFSETTO:-0400
TZNAME:EDT
DTSTART:20200308T070000
END:DAYLIGHT
BEGIN:STANDARD
TZOFFSETFROM:-0400
TZOFFSETTO:-0500
TZNAME:EST
DTSTART:20201101T060000
END:STANDARD
BEGIN:DAYLIGHT
TZOFFSETFROM:-0500
TZOFFSETTO:-0400
TZNAME:EDT
DTSTART:20210314T070000
END:DAYLIGHT
BEGIN:STANDARD
TZOFFSETFROM:-0400
TZOFFSETTO:-0500
TZNAME:EST
DTSTART:20211107T060000
END:STANDARD
BEGIN:DAYLIGHT
TZOFFSETFROM:-0500
TZOFFSETTO:-0400
TZNAME:EDT
DTSTART:20220313T070000
END:DAYLIGHT
BEGIN:STANDARD
TZOFFSETFROM:-0400
TZOFFSETTO:-0500
TZNAME:EST
DTSTART:20221106T060000
END:STANDARD
END:VTIMEZONE
BEGIN:VEVENT
DTSTART;TZID=America/Kentucky/Louisville:20210112T180000
DTEND;TZID=America/Kentucky/Louisville:20210112T190000
DTSTAMP:20260419T231945
CREATED:20201210T154126Z
LAST-MODIFIED:20210105T214431Z
UID:10000725-1610474400-1610478000@www.4cforkids.org
SUMMARY:Screen Time. Turn off the TV and go outside!
DESCRIPTION:In the session\, Screen time –  turn off your TV and go outside\, we will learn about the latest research on the impact of overexposure to technology specifically focusing on the young children we serve. We will generate ideas and practical solutions for things teachers can do with children instead of using television and/or screens including the value of outdoor experiences and hands-on learning. We will also explore age-appropriate practices of screen use. \nThis workshop is free thanks to the generous sponsorship by the Jefferson County Community Early Childhood Council through a grant from the Governor’s Office of Early Childhood. \nNotice: This is an online class.  Please make sure you include a valid email address when registering and that you have internet and email access at the time of the training. This training will be conducted via Zoom\, and you will be required to participate via video and audio through a computer\, phone\, or tablet. \nLevel 3   CDA 1  CC 4   Audience-All \n1 Credit Hour
URL:https://www.4cforkids.org/event/screen-time-turn-off-the-tv-and-go-outside/
LOCATION:KY
CATEGORIES:All
END:VEVENT
BEGIN:VEVENT
DTSTART;TZID=America/Kentucky/Louisville:20210114T123000
DTEND;TZID=America/Kentucky/Louisville:20210114T143000
DTSTAMP:20260419T231945
CREATED:20201210T160803Z
LAST-MODIFIED:20210106T153710Z
UID:10000727-1610627400-1610634600@www.4cforkids.org
SUMMARY:Directors Roundtable: New Year\, New Goals - Making Professional Development Plans Work for You
DESCRIPTION:January is a great time to reflect and refresh. Let’s take a look at how professional development plans can nurture your staff as lifelong learners and professionals. \nThis workshop is free thanks to the generous sponsorship by the Jefferson County Community Early Childhood Council through a grant from the Governor’s Office of Early Childhood. \nNotice: This is an online class.  Please make sure you include a valid email address when registering and that you have internet and email access at the time of the training. This training will be conducted via Zoom\, and you will be required to participate via video and audio through a computer\, phone\, or tablet. \nLevel 3   CDA 6  CC 3   Audience-Directors \n2 Credit Hours
URL:https://www.4cforkids.org/event/directors-roundtable-new-year-new-goals-making-professional-development-plans-work-for-you/
LOCATION:KY
CATEGORIES:All,Director
END:VEVENT
BEGIN:VEVENT
DTSTART;TZID=America/Kentucky/Louisville:20210121T130000
DTEND;TZID=America/Kentucky/Louisville:20210121T143000
DTSTAMP:20260419T231945
CREATED:20201210T181918Z
LAST-MODIFIED:20210106T161540Z
UID:10000731-1611234000-1611239400@www.4cforkids.org
SUMMARY:Tools to Promote and Support Your Child Care Program
DESCRIPTION:Discover new tools to help your child care program thrive. Learn how to access and use the Kentucky Shared Services platform\, which is specifically designed for child care providers\, including tools for marketing\, free job postings\, family resources\, and templates for policies\, handbooks\, communications…and more! \nThis free workshop is sponsored by The Kosair Charities Face It Movement. All participants will receive a free membership to Kentucky Shared Services. \nNotice: This is an online class.  Please make sure you include a valid email address when registering and that you have internet and email access at the time of the training. This training will be conducted via Zoom\, and you will be required to participate via video and audio through a computer\, phone\, or tablet. \nCredit Hours 1.5 \nLevel 3 CDA 5 CC 7 Audience-D
URL:https://www.4cforkids.org/event/tools-to-promote-and-support-your-child-care-program-1-21-21/
LOCATION:KY
CATEGORIES:Director
END:VEVENT
BEGIN:VEVENT
DTSTART;TZID=America/Kentucky/Louisville:20210125T180000
DTEND;TZID=America/Kentucky/Louisville:20210125T200000
DTSTAMP:20260419T231945
CREATED:20200924T130326Z
LAST-MODIFIED:20210105T205100Z
UID:10000841-1611597600-1611604800@www.4cforkids.org
SUMMARY:Pediatric Abusive Head Trauma
DESCRIPTION:This training was designed for child care providers and staff on recognition and prevention Pediatric Abusive Head Trauma. Participants will learn the early signs of maltreatment and the various injuries and conditions that may result from vigorous shaking\, slamming or impacting the head of an infant or young child. They will also be provided tools for dealing with a crying infant and ways to share information with parents to prevent abuse from occurring. Training objectives are to review the statistics of abusive head trauma; to define and describe abusive head trauma and its associated injuries; to discuss risk factors and prevention\, and to understand the outcomes for victims. \nNotice: This is an online class.  Please make sure you include a valid email address when registering and that you have internet and email access at the time of the training. This training will be conducted via Zoom\, and you will be required to participate via video and audio through a computer\, phone\, or tablet. \nLicensed and Certified Child Care providers are now required to obtain a minimum of 1.5 clock hours of training every 5 years in the area of Pediatric Abusive Head Trauma. \nLevel 1 CDA 1 CC 2\,4 Audience-All \n2 Credit Hours
URL:https://www.4cforkids.org/event/pediatric-abusive-head-trauma-1-25-21/
LOCATION:KY
CATEGORIES:All,Director,Infant/Toddler,Preschool,School Age
END:VEVENT
BEGIN:VEVENT
DTSTART;TZID=America/Kentucky/Louisville:20210130T090000
DTEND;TZID=America/Kentucky/Louisville:20210130T223000
DTSTAMP:20260419T231945
CREATED:20201210T165426Z
LAST-MODIFIED:20210106T200638Z
UID:10000729-1611997200-1612045800@www.4cforkids.org
SUMMARY:Playing with Music! A window into inclusion & diversity of ability
DESCRIPTION:During this highly interactive and playful session we will explore music\, music play and how all learners can feel capable and competent when engaging with music in your classrooms! If possible\, please be sure to bring your favorite children’s song\, adult song or musical instrument. During the session we will discuss the important role music and movement plays with children and their development. We will playfully explore how to be more intentional and inclusive with our teaching practices as they relate to learners of different abilities. By the end of the session\, you will have more knowledge about music and how it can support child growth and development. \nNotice: This is an online class.  Please make sure you include a valid email address when registering and that you have internet and email access at the time of the training. This training will be conducted via Zoom\, and you will be required to participate via video and audio through a computer\, phone\, or tablet. \nLevel 3   CDA 3  CC 1   Audience-All \n2 Credit Hours
URL:https://www.4cforkids.org/event/playing-with-music-a-window-into-inclusion-diversity-of-ability/
LOCATION:KY
CATEGORIES:All
END:VEVENT
END:VCALENDAR