BEGIN:VCALENDAR
VERSION:2.0
PRODID:-//Community Coordinated Child Care - ECPv6.15.20//NONSGML v1.0//EN
CALSCALE:GREGORIAN
METHOD:PUBLISH
X-ORIGINAL-URL:https://www.4cforkids.org
X-WR-CALDESC:Events for Community Coordinated Child Care
REFRESH-INTERVAL;VALUE=DURATION:PT1H
X-Robots-Tag:noindex
X-PUBLISHED-TTL:PT1H
BEGIN:VTIMEZONE
TZID:America/Kentucky/Louisville
BEGIN:DAYLIGHT
TZOFFSETFROM:-0500
TZOFFSETTO:-0400
TZNAME:EDT
DTSTART:20200308T070000
END:DAYLIGHT
BEGIN:STANDARD
TZOFFSETFROM:-0400
TZOFFSETTO:-0500
TZNAME:EST
DTSTART:20201101T060000
END:STANDARD
BEGIN:DAYLIGHT
TZOFFSETFROM:-0500
TZOFFSETTO:-0400
TZNAME:EDT
DTSTART:20210314T070000
END:DAYLIGHT
BEGIN:STANDARD
TZOFFSETFROM:-0400
TZOFFSETTO:-0500
TZNAME:EST
DTSTART:20211107T060000
END:STANDARD
BEGIN:DAYLIGHT
TZOFFSETFROM:-0500
TZOFFSETTO:-0400
TZNAME:EDT
DTSTART:20220313T070000
END:DAYLIGHT
BEGIN:STANDARD
TZOFFSETFROM:-0400
TZOFFSETTO:-0500
TZNAME:EST
DTSTART:20221106T060000
END:STANDARD
END:VTIMEZONE
BEGIN:VEVENT
DTSTART;TZID=America/Kentucky/Louisville:20210206T100000
DTEND;TZID=America/Kentucky/Louisville:20210206T113000
DTSTAMP:20260419T215042
CREATED:20201215T175948Z
LAST-MODIFIED:20210127T144841Z
UID:10000863-1612605600-1612611000@www.4cforkids.org
SUMMARY:Following the Leader: Understanding how Emergent Curriculum can work for everyone’s benefit
DESCRIPTION:Following the leader can be a fun game to play with children! Have you ever thought about following the children to help guide the curriculum? Explore the components of emergent curriculum and how that can lead to higher participation and create a captivating environment that can lead to fewer behavior disruptions. We will also learn more about how Emergent Curriculum supports Kentucky’s benchmarks and standards. \nNotice: This is an online class.  Please make sure you include a valid email address when registering and that you have internet and email access at the time of the training. This training will be conducted via Zoom\, and you will be required to participate via video and audio through a computer\, phone\, or tablet. \nLevel 2   CDA 2 CC 4   Audience-All
URL:https://www.4cforkids.org/event/following_the_leader/
LOCATION:KY
CATEGORIES:All
END:VEVENT
BEGIN:VEVENT
DTSTART;TZID=America/Kentucky/Louisville:20210211T123000
DTEND;TZID=America/Kentucky/Louisville:20210211T143000
DTSTAMP:20260419T215042
CREATED:20201211T154636Z
LAST-MODIFIED:20201211T154636Z
UID:10000739-1613046600-1613053800@www.4cforkids.org
SUMMARY:Directors Roundtable: One Small Thing - What can you do this month to move closer to your goals?
DESCRIPTION:How do we stay on track with our goals when there are so many other things to pay attention to? Let’s explore how small changes make big differences in how we work\, and how we feel about our work. Through collaboration and discussion we will find new ways to support each other so that we and our early childhood program can be the best they can be! \nThis workshop is free thanks to the generous sponsorship by the Jefferson County Community Early Childhood Council through a grant from the Governor’s Office of Early Childhood. \nNotice: This is an online class.  Please make sure you include a valid email address when registering and that you have internet and email access at the time of the training. This training will be conducted via Zoom\, and you will be required to participate via video and audio through a computer\, phone\, or tablet. \nLevel 3   CDA 6  CC 3   Audience-Directors \n2 Credit Hours
URL:https://www.4cforkids.org/event/directors-roundtable-one-small-thing-what-can-you-do-this-month-to-move-closer-to-your-goals/
LOCATION:KY
CATEGORIES:All,Director
END:VEVENT
BEGIN:VEVENT
DTSTART;TZID=America/Kentucky/Louisville:20210216T180000
DTEND;TZID=America/Kentucky/Louisville:20210216T190000
DTSTAMP:20260419T215042
CREATED:20201211T210235Z
LAST-MODIFIED:20210106T141422Z
UID:10000741-1613498400-1613502000@www.4cforkids.org
SUMMARY:Physical Activity: Get Moving!
DESCRIPTION:Physical Activity is an important component to health and well-being. Did you know that Kentucky children are ranked as third in leading the nation with childhood obesity? More than 13% of our children between the ages of 2 to 5 years old are impacted by obesity. Physical activity is one solution to support our children and families in reducing obesity and increasing their health outcomes. Join 4-C for a discussion about how to add more physical activity into your classrooms! This session will explore creative ways to get young children moving! By the end of the session\, you will be able to build more physical play into your classroom environment\, schedule and curriculum. \nThis workshop is free thanks to the generous sponsorship by the Jefferson County Community Early Childhood Council through a grant from the Governor’s Office of Early Childhood. \nNotice: This is an online class.  Please make sure you include a valid email address when registering and that you have internet and email access at the time of the training. This training will be conducted via Zoom\, and you will be required to participate via video and audio through a computer\, phone\, or tablet. \nLevel 3   CDA 1  CC 2   Audience-All
URL:https://www.4cforkids.org/event/physical-activity-get-moving/
LOCATION:KY
CATEGORIES:All
END:VEVENT
BEGIN:VEVENT
DTSTART;TZID=America/Kentucky/Louisville:20210218T130000
DTEND;TZID=America/Kentucky/Louisville:20210218T143000
DTSTAMP:20260419T215042
CREATED:20210125T215639Z
LAST-MODIFIED:20210218T140715Z
UID:10000870-1613653200-1613658600@www.4cforkids.org
SUMMARY:Tools to Promote and Support Your Child Care Program
DESCRIPTION:Discover new tools to help your child care program thrive. Learn how to access and use the Kentucky Shared Services platform\, which is specifically designed for child care providers\, including tools for marketing\, free job postings\, family resources\, and templates for policies\, handbooks\, communications…and more! \nThis free workshop is sponsored by The Kosair Charities Face It Movement. All participants will receive a free membership to Kentucky Shared Services. \nNotice: This is an online class.  Please make sure you include a valid email address when registering and that you have internet and email access at the time of the training. This training will be conducted via Zoom\, and you will be required to participate via video and audio through a computer\, phone\, or tablet. \nCredit Hours 1.5 \nLevel 3 CDA 5 CC 7 Audience-D
URL:https://www.4cforkids.org/event/tools-to-promote-and-support-your-child-care-program-2-18-21/
LOCATION:KY
CATEGORIES:Director
END:VEVENT
BEGIN:VEVENT
DTSTART;TZID=America/Kentucky/Louisville:20210220T090000
DTEND;TZID=America/Kentucky/Louisville:20210220T121500
DTSTAMP:20260419T215042
CREATED:20201215T230107Z
LAST-MODIFIED:20210209T185814Z
UID:10000868-1613811600-1613823300@www.4cforkids.org
SUMMARY:Super Saturday-The Role of Movement in Play
DESCRIPTION:Join us for a full day of learning! Attend two virtual classes in one day and complete an Independent Learning assignment to receive 5 hours of credit. Each class will focus on the role of movement in play. Join us for a dynamic day of professional development! \nRough-n-Tumble Play Session (live virtual class) \nRough-n-tumble play starts developing in infancy and continues throughout development! Join 4-C for a discussion on the critical role rough-n-tumble play has within our classrooms. Children crave play opportunities to use their bodies with other children. Rough-n-tumble play is a form of play that occurs at all ages and is characterized by engaging in playful physical actions. Learn how to create opportunities for rough-n-tumble play that are  safe and based upon establishing boundaries and setting limits. Let’s look at the behaviors with a different lens!  \nGirls v/s Boys (live virtual class) \nLet’s talk about the real differences of what boys and girls experience. This session will discuss the importance of understanding child development and what is appropriate to expect from boys and girls in the classroom. Boys and girls may have different needs\, but they are still developing children. This training will explore developmentally appropriate milestones and schemas that teachers can support in the class. \nIndependent Learning Pre-Work (assignment completed on your own time) \nTo receive a full 5 credit hours for Super Saturday\, pre-work must be completed prior to the day of class. An assignment will be emailed to each participant a week before to complete on their own time. \nNotice: This is an online class.  Please make sure you include a valid email address when registering and that you have internet and email access at the time of the training. This training will be conducted via Zoom\, and you will be required to participate via video and audio through a computer\, phone\, or tablet. \nLevel 2 CDA 2\, 8 CC 1 Audience-All \n5 Credit Hours \n 
URL:https://www.4cforkids.org/event/super-saturday-the-role-of-movement-in-play/
LOCATION:Community Coordinated Child Care (4-C)\, 908 S. 8th Street\, Suite 201\, Louisville\, KY\, 40203\, United States
CATEGORIES:All
END:VEVENT
BEGIN:VEVENT
DTSTART;TZID=America/Kentucky/Louisville:20210222T173000
DTEND;TZID=America/Kentucky/Louisville:20210222T190000
DTSTAMP:20260419T215042
CREATED:20201211T151835Z
LAST-MODIFIED:20210106T201100Z
UID:10000737-1614015000-1614020400@www.4cforkids.org
SUMMARY:Creating a Love for Writing!
DESCRIPTION:Creating a love for writing will provide early childhood educators with tools and practices that inspire the process of writing love letters to children and families as a form of documentation. The session aims to transform and elevate the professionalism of early childhood care and education by magnifying the teacher’s voice within the context of documentation. Please join us for a lively discussion on how to create meaningful documentation that will leave you feeling inspired and more deeply connected to your children\, families and colleagues. By the end of the session\, you will have gained techniques\, tools and processes that support you on your journey of documentation-wherever you might be! If possible please bring photos of your classroom children and stories about what has been happening within your classroom. \nNotice: This is an online class.  Please make sure you include a valid email address when registering and that you have internet and email access at the time of the training. This training will be conducted via Zoom\, and you will be required to participate via video and audio through a computer\, phone\, or tablet. \nLevel 3 CDA 4\, 6  CC 3\, 5 Audience-All \n2 Credit Hours (pre-work required)
URL:https://www.4cforkids.org/event/creating-a-love-for-writing/
LOCATION:KY
CATEGORIES:All
END:VEVENT
BEGIN:VEVENT
DTSTART;TZID=America/Kentucky/Louisville:20210223T180000
DTEND;TZID=America/Kentucky/Louisville:20210223T190000
DTSTAMP:20260419T215042
CREATED:20210211T151523Z
LAST-MODIFIED:20210222T153844Z
UID:10000871-1614103200-1614106800@www.4cforkids.org
SUMMARY:Courageous Conversations in Early Childhood Spaces!
DESCRIPTION:Have you been wanting to support your children in talking about their racial or cultural identity\, but you’re unsure of where to start? Are you worried that you might say the wrong thing or run out words? Courageous Conversations will give you the support\, tools and information needed to join in the discussion with your children\, their families and other early childhood professionals. This short but powerful session will provide you with a starting place by sharing real live classroom reflections\, reading a researched based article\, and exploring other resources that will support you on your journey. By the end of the session\, you’ll have greater knowledge\, more language to use and tools which will support you in having a courageous conversation within your classroom\, center\, school or home! \nNotice: This is an online class.  Please make sure you include a valid email address when registering and that you have internet and email access at the time of the training. This training will be conducted via Zoom\, and you will be required to participate via video and audio through a computer\, phone\, or tablet. \nLevel 3   CDA 3  CC 4  Audience-All \n1.5 Credit Hour
URL:https://www.4cforkids.org/event/courageous-conversations-in-early-childhood-spaces/
LOCATION:KY
CATEGORIES:All
END:VEVENT
END:VCALENDAR