BEGIN:VCALENDAR
VERSION:2.0
PRODID:-//Community Coordinated Child Care - ECPv6.15.20//NONSGML v1.0//EN
CALSCALE:GREGORIAN
METHOD:PUBLISH
X-WR-CALNAME:Community Coordinated Child Care
X-ORIGINAL-URL:https://www.4cforkids.org
X-WR-CALDESC:Events for Community Coordinated Child Care
REFRESH-INTERVAL;VALUE=DURATION:PT1H
X-Robots-Tag:noindex
X-PUBLISHED-TTL:PT1H
BEGIN:VTIMEZONE
TZID:America/Kentucky/Louisville
BEGIN:DAYLIGHT
TZOFFSETFROM:-0500
TZOFFSETTO:-0400
TZNAME:EDT
DTSTART:20200308T070000
END:DAYLIGHT
BEGIN:STANDARD
TZOFFSETFROM:-0400
TZOFFSETTO:-0500
TZNAME:EST
DTSTART:20201101T060000
END:STANDARD
BEGIN:DAYLIGHT
TZOFFSETFROM:-0500
TZOFFSETTO:-0400
TZNAME:EDT
DTSTART:20210314T070000
END:DAYLIGHT
BEGIN:STANDARD
TZOFFSETFROM:-0400
TZOFFSETTO:-0500
TZNAME:EST
DTSTART:20211107T060000
END:STANDARD
BEGIN:DAYLIGHT
TZOFFSETFROM:-0500
TZOFFSETTO:-0400
TZNAME:EDT
DTSTART:20220313T070000
END:DAYLIGHT
BEGIN:STANDARD
TZOFFSETFROM:-0400
TZOFFSETTO:-0500
TZNAME:EST
DTSTART:20221106T060000
END:STANDARD
END:VTIMEZONE
BEGIN:VEVENT
DTSTART;TZID=America/Kentucky/Louisville:20210408T123000
DTEND;TZID=America/Kentucky/Louisville:20210408T143000
DTSTAMP:20260419T190117
CREATED:20210317T201020Z
LAST-MODIFIED:20210329T145056Z
UID:10000877-1617885000-1617892200@www.4cforkids.org
SUMMARY:Directors Roundtable - Making Tough Decisions
DESCRIPTION:Directors are faced with numerous difficult decisions every day. This can be exhausting and cause you to run out of resources before all the work is done! Join this group of directors to identify your own personal values and priorities and explore how to use those values to make tough decisions. \nThis workshop is free thanks to the generous sponsorship by the Jefferson County Community Early Childhood Council through a grant from the Governor’s Office of Early Childhood. \nNotice: This is an online class.  Please make sure you include a valid email address when registering and that you have internet and email access at the time of the training. This training will be conducted via Zoom\, and you will be required to participate via video and audio through a computer\, phone\, or tablet. \nLevel 3   CDA 5\, 6  CC 3\, 7   Audience-Directors \n2 Credit Hours
URL:https://www.4cforkids.org/event/directors-roundtable-making-tough-decisions/
LOCATION:KY
CATEGORIES:All,Director
END:VEVENT
BEGIN:VEVENT
DTSTART;TZID=America/Kentucky/Louisville:20210410T100000
DTEND;TZID=America/Kentucky/Louisville:20210410T113000
DTSTAMP:20260419T190117
CREATED:20210317T190551Z
LAST-MODIFIED:20210406T152154Z
UID:10000873-1618048800-1618054200@www.4cforkids.org
SUMMARY:Baby Talk! Attuning and attaching to your little ones
DESCRIPTION:Baby talk: attuning and attaching. Did you know that babies laugh before they talk? Research suggests that laughter is one of the earliest clues as to how humans experience the world. Babies’ brains are wired for relationships and experiences. The first 1000 days of life are an extraordinary period of development where we see rapid physical growth and much more. Join 4-C to learn about how you can nurture these critical periods of development through joyful interactions that promote healthy attachment. This session will give you brain-building practices and attunement strategies to try the next day with babies and toddlers. \nThis workshop is free thanks to the generous sponsorship by the PNC Grow A Great Workforce. \nNotice: This is an online class.  Please make sure you include a valid email address when registering and that you have internet and email access at the time of the training. This training will be conducted via Zoom\, and you will be required to participate via video and audio through a computer\, phone\, or tablet. \nLevel 3   CDA 2  CC 1\, 4   Audience-Infant/Toddler \n1.5 Credit Hours
URL:https://www.4cforkids.org/event/baby-talk-attuning-and-attaching-to-your-little-ones/
LOCATION:KY
CATEGORIES:All,Infant/Toddler
END:VEVENT
BEGIN:VEVENT
DTSTART;TZID=America/Kentucky/Louisville:20210412T180000
DTEND;TZID=America/Kentucky/Louisville:20210412T190000
DTSTAMP:20260419T190117
CREATED:20210317T202459Z
LAST-MODIFIED:20210329T145841Z
UID:10000878-1618250400-1618254000@www.4cforkids.org
SUMMARY:Local Author Read Aloud -Silo and Plyler's Derby Horse Adventure
DESCRIPTION:Join local author and early childhood educator Paul Harshaw as he reads his children’s book\, “Silo and Plyler’s Derby Horse Adventure.” Silo and Plyler just found out about this fantastic horse race in Louisville\, Kentucky called the Kentucky Derby. They are so excited that they want to enter a derby horse of their own. They only have one problem: being from Antarctica\, they have never seen a horse before and have no idea what one looks like. Can you help Silo and Plyler find a Derby Horse in time for the big race? Participants will have an opportunity to ask Mr. Paul questions about his writing and how his work supports early literacy skills. Through a gracious donation of Holland Brown Publishing\, each participant will receive a free copy of “Silo and Plyler’s Derby Horse Adventure” for their classroom. \nThis workshop is free thanks to the generous sponsorship by the Jefferson County Community Early Childhood Council through a grant from the Governor’s Office of Early Childhood. \nNotice: This is an online class.  Please make sure you include a valid email address when registering and that you have internet and email access at the time of the training. This training will be conducted via Zoom\, and you will be required to participate via video and audio through a computer\, phone\, or tablet. \nLevel 2   CDA 8  CC 4   Audience-Preschool \n1 Credit Hour
URL:https://www.4cforkids.org/event/local-author-read-aloud-silo-and-plylers-derby-horse-adventure/
LOCATION:KY
CATEGORIES:All,Preschool
END:VEVENT
BEGIN:VEVENT
DTSTART;TZID=America/Kentucky/Louisville:20210413T130000
DTEND;TZID=America/Kentucky/Louisville:20210413T140000
DTSTAMP:20260419T190117
CREATED:20210318T163930Z
LAST-MODIFIED:20210413T151502Z
UID:10000882-1618318800-1618322400@www.4cforkids.org
SUMMARY:Following the Leader: Understanding how Emergent Curriculum can work for everyone’s benefit
DESCRIPTION:Following the leader can be a fun game to play with children! Have you ever thought about following the children to help guide the curriculum? Explore the components of emergent curriculum and how that can lead to higher participation and create a captivating environment that can lead to fewer behavior disruptions. We will also learn more about how Emergent Curriculum supports Kentucky’s benchmarks and standards. \nThis workshop is free thanks to the generous sponsorship by the Jefferson County Community Early Childhood Council through a grant from the Governor’s Office of Early Childhood. \nNotice: This is an online class.  Please make sure you include a valid email address when registering and that you have internet and email access at the time of the training. This training will be conducted via Zoom\, and you will be required to participate via video and audio through a computer\, phone\, or tablet. \nLevel 2   CDA 2 CC 4   Audience-All
URL:https://www.4cforkids.org/event/following_the_leader-4-13-21/
LOCATION:KY
CATEGORIES:All
END:VEVENT
BEGIN:VEVENT
DTSTART;TZID=America/Kentucky/Louisville:20210414T130000
DTEND;TZID=America/Kentucky/Louisville:20210414T140000
DTSTAMP:20260419T190117
CREATED:20210317T184201Z
LAST-MODIFIED:20210329T150525Z
UID:10000872-1618405200-1618408800@www.4cforkids.org
SUMMARY:Engaging Children in Language and Communication Through Play
DESCRIPTION:In this session teachers will gain in-depth knowledge about different stages of communication and how to support the children through language in the classroom. Participants will obtain free classroom resources that will support young learners in communication and language. \nThis workshop is free thanks to the generous sponsorship by the Jefferson County Community Early Childhood Council through a grant from the Governor’s Office of Early Childhood. \nNotice: This is an online class.  Please make sure you include a valid email address when registering and that you have internet and email access at the time of the training. This training will be conducted via Zoom\, and you will be required to participate via video and audio through a computer\, phone\, or tablet. \nLevel 2   CDA 2\, 7  CC 4   Audience-Preschool \n1 Credit Hour
URL:https://www.4cforkids.org/event/engaging-children-in-language-and-communication-through-play/
LOCATION:KY
CATEGORIES:Preschool
END:VEVENT
BEGIN:VEVENT
DTSTART;TZID=America/Kentucky/Louisville:20210414T163000
DTEND;TZID=America/Kentucky/Louisville:20210414T183000
DTSTAMP:20260419T190117
CREATED:20210317T200102Z
LAST-MODIFIED:20210329T150711Z
UID:10000876-1618417800-1618425000@www.4cforkids.org
SUMMARY:Recognizing and Reporting Child Abuse
DESCRIPTION:As an early childhood educator\, you play a critical role in the prevention of child abuse and neglect because of your important relationships with both children and families. Join this interactive session to learn how to recognize when families need education or support\, and how to detect and report child abuse. \nThis workshop is free thanks to the generous sponsorship by the Kosair Charities Face It Movement. \nNotice: This is an online class.  Please make sure you include a valid email address when registering and that you have internet and email access at the time of the training. This training will be conducted via Zoom\, and you will be required to participate via video and audio through a computer\, phone\, or tablet. \nLevel 2   CDA 1 CC 2   Audience-All \n2 Credit Hours
URL:https://www.4cforkids.org/event/recognizing-and-reporting-child-abuse/
LOCATION:KY
CATEGORIES:All,Director,Infant/Toddler,Preschool,School Age
END:VEVENT
BEGIN:VEVENT
DTSTART;TZID=America/Kentucky/Louisville:20210415T123000
DTEND;TZID=America/Kentucky/Louisville:20210415T140000
DTSTAMP:20260419T190117
CREATED:20210317T204725Z
LAST-MODIFIED:20210317T204725Z
UID:10000880-1618489800-1618495200@www.4cforkids.org
SUMMARY:Tools to Promote and Support Your Child Care Program
DESCRIPTION:Discover new tools to help your child care program thrive. Learn how to access and use the Kentucky Shared Services platform\, which is specifically designed for child care providers\, including tools for marketing\, free job postings\, family resources\, and templates for policies\, handbooks\, communications…and more! \nThis free workshop is sponsored by The Kosair Charities Face It Movement. All participants will receive a free membership to Kentucky Shared Services. \nNotice: This is an online class.  Please make sure you include a valid email address when registering and that you have internet and email access at the time of the training. This training will be conducted via Zoom\, and you will be required to participate via video and audio through a computer\, phone\, or tablet. \nCredit Hours 1.5 \nLevel 3 CDA 5 CC 7 Audience-D
URL:https://www.4cforkids.org/event/tools-to-promote-and-support-your-child-care-program-4-15-21-2/
LOCATION:KY
CATEGORIES:Director
END:VEVENT
BEGIN:VEVENT
DTSTART;TZID=America/Kentucky/Louisville:20210419T180000
DTEND;TZID=America/Kentucky/Louisville:20210419T190000
DTSTAMP:20260419T190117
CREATED:20210317T203544Z
LAST-MODIFIED:20210329T150921Z
UID:10000879-1618855200-1618858800@www.4cforkids.org
SUMMARY:Stories and Play - Using Books to Inspire Invitations to Play
DESCRIPTION:What if the books you already have could help inspire more play and learning? By using play to deepen their enjoyment and understanding of their favorite stories\, children can be even more engaged in their early literacy experiences. Join other preschool teachers as we discover ways to use stories to create invitations to play! \nThis workshop is free thanks to the generous sponsorship by the Jefferson County Community Early Childhood Council through a grant from the Governor’s Office of Early Childhood. \nNotice: This is an online class.  Please make sure you include a valid email address when registering and that you have internet and email access at the time of the training. This training will be conducted via Zoom\, and you will be required to participate via video and audio through a computer\, phone\, or tablet. \nLevel 3   CDA 2 CC 4   Audience-Preschool \n1 Credit Hour
URL:https://www.4cforkids.org/event/stories-and-play-using-books-to-inspire-invitations-to-play/
LOCATION:KY
CATEGORIES:All,Preschool
END:VEVENT
BEGIN:VEVENT
DTSTART;TZID=America/Kentucky/Louisville:20210421T173000
DTEND;TZID=America/Kentucky/Louisville:20210421T193000
DTSTAMP:20260419T190117
CREATED:20210317T192729Z
LAST-MODIFIED:20210329T151109Z
UID:10000874-1619026200-1619033400@www.4cforkids.org
SUMMARY:Strengthening Families Series - Knowledge of Parenting & Child Development
DESCRIPTION:Did you know that when families understand the developmental needs of their growing children\, abuse is less likely to occur? Kentucky is consistently ranked among the highest in our nation for child abuse and neglect. Early childhood providers play an important role in educating families on the developmental needs of young children. Join 4-C to discover the critical points in development when families and children need us the most. By learning about child development and sharing this information with families on a regular basis you are supporting Kentucky’s mission of ending child abuse. After attending this session you will be more knowledgeable about child development and valuable resources from the Centers for Disease Control and Prevention which are research-based\, family-focused and available in English and Spanish. \nThis workshop is free thanks to the generous sponsorship by the Kosair Charities Face It Movement. \nNotice: This is an online class.  Please make sure you include a valid email address when registering and that you have internet and email access at the time of the training. This training will be conducted via Zoom\, and you will be required to participate via video and audio through a computer\, phone\, or tablet. \nLevel 3   CDA 4  CC 6   Audience-All \n2 Credit Hours
URL:https://www.4cforkids.org/event/strengthening-families-series-knowledge-of-parenting-child-development/
LOCATION:KY
CATEGORIES:All,Director,Infant/Toddler,Preschool,School Age
END:VEVENT
BEGIN:VEVENT
DTSTART;TZID=America/Kentucky/Louisville:20210426T180000
DTEND;TZID=America/Kentucky/Louisville:20210426T200000
DTSTAMP:20260419T190117
CREATED:20210318T135833Z
LAST-MODIFIED:20210329T151334Z
UID:10000881-1619460000-1619467200@www.4cforkids.org
SUMMARY:Pediatric Abusive Head Trauma
DESCRIPTION:This training was designed for child care providers and staff on recognition and prevention Pediatric Abusive Head Trauma. Participants will learn the early signs of maltreatment and the various injuries and conditions that may result from vigorous shaking\, slamming or impacting the head of an infant or young child. They will also be provided tools for dealing with a crying infant and ways to share information with parents to prevent abuse from occurring. Training objectives are to review the statistics of abusive head trauma; to define and describe abusive head trauma and its associated injuries; to discuss risk factors and prevention\, and to understand the outcomes for victims. \nNotice: This is an online class.  Please make sure you include a valid email address when registering and that you have internet and email access at the time of the training. This training will be conducted via Zoom\, and you will be required to participate via video and audio through a computer\, phone\, or tablet. \nLicensed and Certified Child Care providers are now required to obtain a minimum of 1.5 clock hours of training every 5 years in the area of Pediatric Abusive Head Trauma. \nLevel 1 CDA 1 CC 2\,4 Audience-All \n2 Credit Hours
URL:https://www.4cforkids.org/event/pediatric-abusive-head-trauma-4-26-21/
LOCATION:KY
CATEGORIES:All,Director,Infant/Toddler,Preschool,School Age
END:VEVENT
BEGIN:VEVENT
DTSTART;TZID=America/Kentucky/Louisville:20210427T180000
DTEND;TZID=America/Kentucky/Louisville:20210427T193000
DTSTAMP:20260419T190117
CREATED:20210317T194328Z
LAST-MODIFIED:20210414T164424Z
UID:10000875-1619546400-1619551800@www.4cforkids.org
SUMMARY:When Childhood Anxiety Leads to Challenging Behaviors: Classroom Strategies to Support Anxious Children
DESCRIPTION:Practitioners are often overwhelmed with behaviors created by anxiety\, which can look like social isolation\, school refusal or aggression. Most educators don’t receive training on this chronic condition. Participants will learn to identify the symptoms and behaviors of the different types of anxiety\, and anxiety in relation to Adverse Childhood Experiences. Participants will learn strategies to assist a child with anxiety in the classroom\, and learn strategies that parents can implement to help the child succeed at home and in the classroom. They will also participate in self-reflective activities for determining levels of anxiety\, along with strategies to avoid that are commonly used in child care or classroom settings. \nThis workshop is free thanks to the generous sponsorship by the Lift a Life Foundation. \nNotice: This is an online class.  Please make sure you include a valid email address when registering and that you have internet and email access at the time of the training. This training will be conducted via Zoom\, and you will be required to participate via video and audio through a computer\, phone\, or tablet. \nLevel 3   CDA 2 CC 1   Audience-All \n1.5 Credit Hours
URL:https://www.4cforkids.org/event/when-childhood-anxiety-leads-to-challenging-behaviors-classroom-strategies-to-support-anxious-children/
LOCATION:KY
CATEGORIES:All,Director,Infant/Toddler,Preschool,School Age
END:VEVENT
END:VCALENDAR