BEGIN:VCALENDAR
VERSION:2.0
PRODID:-//Community Coordinated Child Care - ECPv6.15.20//NONSGML v1.0//EN
CALSCALE:GREGORIAN
METHOD:PUBLISH
X-ORIGINAL-URL:https://www.4cforkids.org
X-WR-CALDESC:Events for Community Coordinated Child Care
REFRESH-INTERVAL;VALUE=DURATION:PT1H
X-Robots-Tag:noindex
X-PUBLISHED-TTL:PT1H
BEGIN:VTIMEZONE
TZID:America/Kentucky/Louisville
BEGIN:DAYLIGHT
TZOFFSETFROM:-0500
TZOFFSETTO:-0400
TZNAME:EDT
DTSTART:20200308T070000
END:DAYLIGHT
BEGIN:STANDARD
TZOFFSETFROM:-0400
TZOFFSETTO:-0500
TZNAME:EST
DTSTART:20201101T060000
END:STANDARD
BEGIN:DAYLIGHT
TZOFFSETFROM:-0500
TZOFFSETTO:-0400
TZNAME:EDT
DTSTART:20210314T070000
END:DAYLIGHT
BEGIN:STANDARD
TZOFFSETFROM:-0400
TZOFFSETTO:-0500
TZNAME:EST
DTSTART:20211107T060000
END:STANDARD
BEGIN:DAYLIGHT
TZOFFSETFROM:-0500
TZOFFSETTO:-0400
TZNAME:EDT
DTSTART:20220313T070000
END:DAYLIGHT
BEGIN:STANDARD
TZOFFSETFROM:-0400
TZOFFSETTO:-0500
TZNAME:EST
DTSTART:20221106T060000
END:STANDARD
END:VTIMEZONE
BEGIN:VEVENT
DTSTART;TZID=America/Kentucky/Louisville:20210809T180000
DTEND;TZID=America/Kentucky/Louisville:20210811T200000
DTSTAMP:20260419T125622
CREATED:20210630T162323Z
LAST-MODIFIED:20210803T170456Z
UID:10000901-1628532000-1628712000@www.4cforkids.org
SUMMARY:Orientation
DESCRIPTION:This six hour professional development workshop provides overviews of child abuse/neglect\, developmentally appropriate practices\, and health & safety practices. It is required of all new child care staff within the first 90 days of hire. This class will be taught in two 2-hour zoom classes with homework in between for a total of 6 hours of content. You must be able to participate in both classes (Monday\, August 9 6:00 – 8:00 PM and Wednesday\, August 11 6:00 – 8:00 PM) and complete the required assignment to receive credit for this class. \nNotice: This is an online class.  Please make sure you include a valid email address when registering and that you have internet and email access at the time of the training. This training will be conducted via Zoom\, and you will be required to participate via video and audio through a computer\, phone\, or tablet. \nLevel 1 CDA 1\,2\,3\,8 CC 1\,2\,4 Audience-All \n6 Credit Hours
URL:https://www.4cforkids.org/event/orientation-8-2-21/
LOCATION:KY
CATEGORIES:All,Director,Family Child Care,Infant/Toddler,Preschool,School Age
END:VEVENT
BEGIN:VEVENT
DTSTART;TZID=America/Kentucky/Louisville:20210810T173000
DTEND;TZID=America/Kentucky/Louisville:20210810T200000
DTSTAMP:20260419T125622
CREATED:20210607T122029Z
LAST-MODIFIED:20210722T195742Z
UID:10000900-1628616600-1628625600@www.4cforkids.org
SUMMARY:The 5th Annual Heart Centered Teaching Virtual Institute - Planting a Seed of Care: Day Two
DESCRIPTION:Schemas and Social Connections\nJoin Nadia Jaboneta and Brian Silveira as they share stories and approaches that transform teachers’ views of children’s competence. Through these stories we will learn about the profound importance of brain development and schema explorations during play and its connection to children’s eagerness for relationships. You will hear engaging ideas about children of all ages\, and the roles you can play to enhance the teaching and learning process and your own engagement and joy in your work. \nFeatured Speakers Nadia Jaboneta & Brian Silveira\n\n \n  \n  \n  \n  \n  \n  \n  \nClick here to learn more about the Heart Centered Teaching Institute.\nJuly 20\, 2021 Day One: Keynote Speaker Kelly Ramsey – Get tickets \nRescheduled to August 10\, 2021 Day Two: Featured Speakers Nadia Jaboneta and Brian Silveira – Tickets below \nJuly 27\, 2021 Day Three: Featured Speaker Rusty Keeler – Get tickets \nAttend one day for $10 or all three for $25. Scholarships are available. To request a scholarship\, email Brenda Withrow\, Professional Development Specialist\, at brenda-withrow@4cforkids.com. \n  \n \n 
URL:https://www.4cforkids.org/event/the-5th-annual-heart-centered-teaching-virtual-institute-planting-a-seed-of-care-day-two/
LOCATION:KY
CATEGORIES:All,Director,Family Child Care,Infant/Toddler,Preschool,School Age
END:VEVENT
BEGIN:VEVENT
DTSTART;TZID=America/Kentucky/Louisville:20210814T100000
DTEND;TZID=America/Kentucky/Louisville:20210814T120000
DTSTAMP:20260419T125622
CREATED:20210630T181138Z
LAST-MODIFIED:20210727T192553Z
UID:10000903-1628935200-1628942400@www.4cforkids.org
SUMMARY:Parks\, play and parents! Let’s get outdoors and discover the power of play for children and families!
DESCRIPTION:Parks\, play and Parents is a highly interactive in-person session delivered at Broadrun Park. During this session 4-C and participants will explore the power of play by investigating the park and engaging in hands-on learning. During our time together we will reflect upon the importance of play in our lives and learn how to share the value of play with parents. By the end of the two hour outdoor experience each early childhood educator will know how to plan for outdoor adventure and play-based experiences with families in their care and community! \nNotice: This is an in person class conducted at the Broadrun Park\, Ogle Foundation Woodland Pavilion 11551 Bardstown Rd. Louisville\, KY 40291. \nLevel 3 CDA 2\, 4 CC 1\, 6 Audience-All \n2 Credit Hours
URL:https://www.4cforkids.org/event/parks-play-and-parents-lets-get-outdoors-and-discover-the-power-of-play-for-children-and-families/
LOCATION:KY
CATEGORIES:All,Director,Family Child Care,Infant/Toddler,Preschool,School Age
END:VEVENT
BEGIN:VEVENT
DTSTART;TZID=America/Kentucky/Louisville:20210817T173000
DTEND;TZID=America/Kentucky/Louisville:20210817T193000
DTSTAMP:20260419T125622
CREATED:20210630T172753Z
LAST-MODIFIED:20210722T174306Z
UID:10000902-1629221400-1629228600@www.4cforkids.org
SUMMARY:Strengthening Families: Social and Emotional Competence of Children
DESCRIPTION:Social and Emotional Competence of Children will help you understand how to support children in learning how to positively interact with others\, self-regulating their behaviors\, and effectively communicating their feelings – all of which have positive impacts on their relationships with family members\, other adults\, and peers. Challenging behaviors or delayed development can create extra stress for families\, so early identification and support for both parents and the child are critical to keep children on track. It’s never easy to start these conversations\, and it can be hard to find the right resources. Join 4-C to discover some talking points\, local resources\, and more! By the end of the session\, you will feel more confident in understanding social-emotional development\, and in your ability to refer families to needed resources as challenges arise. \nThis workshop is free thanks to the generous sponsorship by the Kosair Charities Face It Movement. \nNotice: This is an online class.  Please make sure you include a valid email address when registering and that you have internet and email access at the time of the training. This training will be conducted via Zoom\, and you will be required to participate via video and audio through a computer\, phone\, or tablet. \nLevel 3   CDA 4  CC 6   Audience-All \n2 Credit Hours
URL:https://www.4cforkids.org/event/strengthening-families-social-and-emotional-competence-of-children/
LOCATION:KY
CATEGORIES:All,Director,Family Child Care,Infant/Toddler,Preschool,School Age
END:VEVENT
BEGIN:VEVENT
DTSTART;TZID=America/Kentucky/Louisville:20210818T130000
DTEND;TZID=America/Kentucky/Louisville:20210818T150000
DTSTAMP:20260419T125622
CREATED:20210630T185634Z
LAST-MODIFIED:20210630T185634Z
UID:10000904-1629291600-1629298800@www.4cforkids.org
SUMMARY:Ready\, Set\, Play!
DESCRIPTION:Are you looking for ways to support children’s diverse play? Understanding that children’s play is serious work and provides a foundation and how positive play experiences will create connections in life. Children often play in a way that can be wild and crazy\, but understanding the reasons behind play will make you consider play as a fundamental foundation for learning. This training session will encourage teachers to rethink of how they allow children to play or not to play with their peers. We will discuss the benefits of how big body play\, risky play and rough and tumble contribute to healthy development for children. \nNotice: This is an online class.  Please make sure you include a valid email address when registering and that you have internet and email access at the time of the training. This training will be conducted via Zoom\, and you will be required to participate via video and audio through a computer\, phone\, or tablet. \nLevel 2  CDA 2\, 7  CC 1\, 4   Audience-All \n2 Credit Hours
URL:https://www.4cforkids.org/event/ready-set-play/
LOCATION:KY
CATEGORIES:All,Director,Family Child Care,Infant/Toddler,Preschool,School Age
END:VEVENT
BEGIN:VEVENT
DTSTART;TZID=America/Kentucky/Louisville:20210819T180000
DTEND;TZID=America/Kentucky/Louisville:20210819T200000
DTSTAMP:20260419T125622
CREATED:20210702T222449Z
LAST-MODIFIED:20210728T194055Z
UID:10000777-1629396000-1629403200@www.4cforkids.org
SUMMARY:Reflecting on Anti-Bias Education in Action: The Early Years
DESCRIPTION:4-C is excited to share a powerful and deeply profound film about anti-bias education in early childhood. The 48 minute film\, Reflecting on Anti-Bias Education in Action: the Early Years\, is inspired by the work of educators implementing anti-bias education for young children seeking a more just world. View the film on your own time and then join us for a debrief of our collective learning with featured speakers and the film’s director. Please join us\, along with Nadia Jaboneta\, Brian Silveira\, and John Nimmo\, for a reflective dialogue and deep dive into the work of the featured educators. \nAnti-bias education places diversity and equity goals at the heart of everything we do in early childhood. This film recognizes that very young children are observing\, experiencing\, and actively making sense of social identities and biases. Children have a deep and empathetic sense of fairness. Let’s discover what we can do to strengthen the voice of children and create a more just world. \nNotice: This is an online class.  Please make sure you include a valid email address when registering and that you have internet and email access at the time of the training. This training will be conducted via Zoom\, and you will be required to participate via video and audio through a computer\, phone\, or tablet. \nLevel 3 CDA 3 CC 1\, 4 Audience-All \n2 Credit Hours \nWatch a trailer for the film. \n \n 
URL:https://www.4cforkids.org/event/reflecting-on-anti-bias-education-in-action/
LOCATION:KY
CATEGORIES:All,Director,Family Child Care,Infant/Toddler,Preschool,School Age
END:VEVENT
BEGIN:VEVENT
DTSTART;TZID=America/Kentucky/Louisville:20210826T123000
DTEND;TZID=America/Kentucky/Louisville:20210826T140000
DTSTAMP:20260419T125622
CREATED:20210630T195103Z
LAST-MODIFIED:20210825T143236Z
UID:10000767-1629981000-1629986400@www.4cforkids.org
SUMMARY:Tools to Promote and Support Your Child Care Program
DESCRIPTION:Discover new tools to help your child care program thrive. Learn how to access and use the Kentucky Shared Services platform\, which is specifically designed for child care providers\, including tools for marketing\, free job postings\, family resources\, and templates for policies\, handbooks\, communications…and more! \nThis free workshop is sponsored by The Kosair Charities Face It Movement. All participants will receive a free membership to Kentucky Shared Services. \nNotice: This is an online class.  Please make sure you include a valid email address when registering and that you have internet and email access at the time of the training. This training will be conducted via Zoom\, and you will be required to participate via video and audio through a computer\, phone\, or tablet. \nCredit Hours 1.5 \nLevel 3 CDA 5 CC 7 Audience-D
URL:https://www.4cforkids.org/event/tools-to-promote-and-support-your-child-care-program-8-26-21/
LOCATION:KY
CATEGORIES:Director
END:VEVENT
END:VCALENDAR